{"text_format":"1","workbook":"xlsx","n_sheets":4,"sheets":["Mitarbeiter","intern","Grün","Blau"],"not_rendered":{"charts":0,"images":2,"macros":1,"external_links":0,"defined_names":4,"comments":4,"pivot_tables":0},"unopened":[],"bounds":{"document_bytes":16777216,"sheet_cells":100000,"rows_first":2000,"rows_last":500,"rows_between":2000,"halvings":0,"cell_chars":16384,"cell_head_chars":4096},"cells_cut":0,"cells_raw":0,"read":"whole","date_system":"1900"}

{"sheet":"Mitarbeiter","index":0,"n_rows":63,"n_cols":24,"rows_kept":63,"cut":false,"hidden":false,"merged":[[61,18,61,19],[62,0,62,6],[62,18,62,19],[63,18,63,19],[44,13,48,14],[44,15,48,15],[45,0,50,6],[52,0,52,6],[54,18,54,19],[55,0,60,6],[59,18,59,19],[60,18,60,19],[53,0,53,6],[54,0,54,6],[55,8,57,19],[8,18,8,19],[8,20,10,20],[9,16,9,17],[9,18,9,19],[10,16,10,17],[10,18,10,19],[8,9,10,9],[8,8,10,8],[44,0,44,6],[42,0,42,4],[43,0,43,4],[8,7,10,7],[0,21,3,21],[6,20,7,21],[7,0,7,4],[7,8,7,16],[5,20,5,21],[4,17,4,19],[5,8,5,16],[5,17,5,19],[4,8,4,10],[1,17,1,19],[6,19,7,19],[6,0,6,6],[6,8,6,10],[0,6,1,6],[0,0,1,5],[2,0,2,6],[3,0,3,6],[8,0,10,0],[4,0,4,6],[5,0,5,6],[8,1,8,2],[8,3,8,4],[2,17,2,19],[3,17,3,19],[0,15,1,15],[0,16,1,16],[3,8,3,16],[0,17,0,19]]}
["Stundennachweis Nr.",null,null,null,null,null,"01/26",null,null,null,null,null,null,null,null,null,null,"Personalnummer",null,null,null,"DIS"]
[]
["Name des Mitarbeiters",null,null,null,null,null,null,null,"Auftraggeber",null,null,null,null,null,null,null,null,"Kostenstelle"]
[]
[null,null,null,null,null,null,null,null,"Abteilung/Baustelle",null,null,null,null,null,null,null,null,"Kundennummer",null,null,"Einsatz Nr."]
[]
["Monat/Woche/Zeitraum",null,null,null,null,null,null,null,"Eingesetzt als",null,null,null,null,null,null,null,null,"Lohn","Gehalt","VS"]
[]
["Datum","Arbeitszeit",null,"Pause",null,"Gesamt-",null,"Home \nOffice ",0.5,1,"Feier-","Urlaub","Krank","Amt","bez.","Schul-",null,null,null,null,"LA"]
[null,"von","bis","von","bis","arbeits-","Normal-",null,null,null,"tag",null,null,"Arzt","FZ","ung","Leistungen mit",null,"Leistungen ohne"]
[null,"(HH:MM)","(HH:MM)","(HH:MM)","(HH:MM)","stunden","stunden",null,null,null,null,null,null,"SW",null,null,"Weiterberechnung",null,"Weiterberechnung"]
["Do. 1.","FT",null,null,null,{"$f":"IF(OR(B12=0,C12=0),0,IF(C12>B12,ROUND((C12-B12)*24-((E12-D12)*24),2),ROUND((C12-B12+1)*24-((E12-D12)*24),2)))","v":0},{"$f":"intern!G12","v":0},null,null,{"$f":"IF(B12=\"FT\",G12,0)","v":0},null,null,null,null,null,null,"Std.","EUR","Std.","EUR",null,null,null,{"$f":"F12-G12","v":0}]
["Fr. 2.",null,null,null,null,{"$f":"IF(OR(B13=0,C13=0),0,IF(C13>B13,ROUND((C13-B13)*24-((E13-D13)*24),2),ROUND((C13-B13+1)*24-((E13-D13)*24),2)))","v":0},{"$f":"intern!G13","v":0},null,null,{"$f":"IF(B13=\"FT\",G13,0)","v":0},null,null,null,null,null,null,null,null,null,null,125,null,null,0]
["Sa. 3.",null,null,null,null,{"$f":"IF(OR(B14=0,C14=0),0,IF(C14>B14,ROUND((C14-B14)*24-((E14-D14)*24),2),ROUND((C14-B14+1)*24-((E14-D14)*24),2)))","v":0},{"$f":"intern!G14","v":0},null,null,{"$f":"IF(B14=\"FT\",G14,0)","v":0},null,null,null,null,null,null,null,null,null,null,200,null,null,0]
["So. 4.",null,null,null,null,{"$f":"IF(OR(B15=0,C15=0),0,IF(C15>B15,ROUND((C15-B15)*24-((E15-D15)*24),2),ROUND((C15-B15+1)*24-((E15-D15)*24),2)))","v":0},{"$f":"intern!G15","v":0},null,null,{"$f":"IF(B15=\"FT\",G15,0)","v":0},null,null,null,null,null,null,null,null,null,null,202,null,null,0]
["Mo. 5.",null,null,null,null,{"$f":"IF(OR(B16=0,C16=0),0,IF(C16>B16,ROUND((C16-B16)*24-((E16-D16)*24),2),ROUND((C16-B16+1)*24-((E16-D16)*24),2)))","v":0},{"$f":"intern!G16","v":0},null,null,{"$f":"IF(B16=\"FT\",G16,0)","v":0},null,null,null,null,null,null,null,null,null,null,203,null,null,0]
["Di. 6.","FT",null,null,null,{"$f":"IF(OR(B17=0,C17=0),0,IF(C17>B17,ROUND((C17-B17)*24-((E17-D17)*24),2),ROUND((C17-B17+1)*24-((E17-D17)*24),2)))","v":0},{"$f":"intern!G17","v":0},null,null,{"$f":"IF(B17=\"FT\",G17,0)","v":0},null,null,null,null,null,null,null,null,null,null,330,null,null,0]
["Mi. 7.",null,null,null,null,{"$f":"IF(OR(B18=0,C18=0),0,IF(C18>B18,ROUND((C18-B18)*24-((E18-D18)*24),2),ROUND((C18-B18+1)*24-((E18-D18)*24),2)))","v":0},{"$f":"intern!G18","v":0},null,null,{"$f":"IF(B18=\"FT\",G18,0)","v":0},null,null,null,null,null,null,null,null,null,null,340,null,null,0]
["Do. 8.",null,null,null,null,{"$f":"IF(OR(B19=0,C19=0),0,IF(C19>B19,ROUND((C19-B19)*24-((E19-D19)*24),2),ROUND((C19-B19+1)*24-((E19-D19)*24),2)))","v":0},{"$f":"intern!G19","v":0},null,null,{"$f":"IF(B19=\"FT\",G19,0)","v":0},null,null,null,null,null,null,null,null,null,null,341,null,null,0]
["Fr. 9.",null,null,null,null,{"$f":"IF(OR(B20=0,C20=0),0,IF(C20>B20,ROUND((C20-B20)*24-((E20-D20)*24),2),ROUND((C20-B20+1)*24-((E20-D20)*24),2)))","v":0},{"$f":"intern!G20","v":0},null,null,{"$f":"IF(B20=\"FT\",G20,0)","v":0},null,null,null,null,null,null,null,null,null,null,35,null,null,0]
["Sa. 10.",null,null,null,null,{"$f":"IF(OR(B21=0,C21=0),0,IF(C21>B21,ROUND((C21-B21)*24-((E21-D21)*24),2),ROUND((C21-B21+1)*24-((E21-D21)*24),2)))","v":0},{"$f":"intern!G21","v":0},null,null,{"$f":"IF(B21=\"FT\",G21,0)","v":0},null,null,null,null,null,null,null,null,null,null,470,null,null,0]
["So. 11.",null,null,null,null,{"$f":"IF(OR(B22=0,C22=0),0,IF(C22>B22,ROUND((C22-B22)*24-((E22-D22)*24),2),ROUND((C22-B22+1)*24-((E22-D22)*24),2)))","v":0},{"$f":"intern!G22","v":0},null,null,{"$f":"IF(B22=\"FT\",G22,0)","v":0},null,null,null,null,null,null,null,null,null,null,220,null,null,0]
["Mo. 12.",null,null,null,null,{"$f":"IF(OR(B23=0,C23=0),0,IF(C23>B23,ROUND((C23-B23)*24-((E23-D23)*24),2),ROUND((C23-B23+1)*24-((E23-D23)*24),2)))","v":0},{"$f":"intern!G23","v":0},null,null,{"$f":"IF(B23=\"FT\",G23,0)","v":0},null,null,null,null,null,null,null,null,null,null,221,null,null,0]
["Di. 13.",null,null,null,null,{"$f":"IF(OR(B24=0,C24=0),0,IF(C24>B24,ROUND((C24-B24)*24-((E24-D24)*24),2),ROUND((C24-B24+1)*24-((E24-D24)*24),2)))","v":0},{"$f":"intern!G24","v":0},null,null,{"$f":"IF(B24=\"FT\",G24,0)","v":0},null,null,null,null,null,null,null,null,null,null,null,null,null,0]
["Mi. 14.",null,null,null,null,{"$f":"IF(OR(B25=0,C25=0),0,IF(C25>B25,ROUND((C25-B25)*24-((E25-D25)*24),2),ROUND((C25-B25+1)*24-((E25-D25)*24),2)))","v":0},{"$f":"intern!G25","v":0},null,null,{"$f":"IF(B25=\"FT\",G25,0)","v":0},null,null,null,null,null,null,null,null,null,null,null,null,null,0]
["Do. 15.",null,null,null,null,{"$f":"IF(OR(B26=0,C26=0),0,IF(C26>B26,ROUND((C26-B26)*24-((E26-D26)*24),2),ROUND((C26-B26+1)*24-((E26-D26)*24),2)))","v":0},{"$f":"intern!G26","v":0},null,null,{"$f":"IF(B26=\"FT\",G26,0)","v":0},null,null,null,null,null,null,null,null,null,null,210,null,null,0]
["Fr. 16.",null,null,null,null,{"$f":"IF(OR(B27=0,C27=0),0,IF(C27>B27,ROUND((C27-B27)*24-((E27-D27)*24),2),ROUND((C27-B27+1)*24-((E27-D27)*24),2)))","v":0},{"$f":"intern!G27","v":0},null,null,{"$f":"IF(B27=\"FT\",G27,0)","v":0},null,null,null,null,null,null,null,null,null,null,211,null,null,0]
["Sa. 17.",null,null,null,null,{"$f":"IF(OR(B28=0,C28=0),0,IF(C28>B28,ROUND((C28-B28)*24-((E28-D28)*24),2),ROUND((C28-B28+1)*24-((E28-D28)*24),2)))","v":0},{"$f":"intern!G28","v":0},null,null,{"$f":"IF(B28=\"FT\",G28,0)","v":0},null,null,null,null,null,null,null,null,null,null,null,null,null,0]
["So. 18.",null,null,null,null,{"$f":"IF(OR(B29=0,C29=0),0,IF(C29>B29,ROUND((C29-B29)*24-((E29-D29)*24),2),ROUND((C29-B29+1)*24-((E29-D29)*24),2)))","v":0},{"$f":"intern!G29","v":0},null,null,{"$f":"IF(B29=\"FT\",G29,0)","v":0},null,null,null,null,null,null,null,null,null,null,12,null,null,0]
["Mo. 19.",null,null,null,null,{"$f":"IF(OR(B30=0,C30=0),0,IF(C30>B30,ROUND((C30-B30)*24-((E30-D30)*24),2),ROUND((C30-B30+1)*24-((E30-D30)*24),2)))","v":0},{"$f":"intern!G30","v":0},null,null,{"$f":"IF(B30=\"FT\",G30,0)","v":0},null,null,null,null,null,null,null,null,null,null,null,null,null,0]
["Di. 20.",null,null,null,null,{"$f":"IF(OR(B31=0,C31=0),0,IF(C31>B31,ROUND((C31-B31)*24-((E31-D31)*24),2),ROUND((C31-B31+1)*24-((E31-D31)*24),2)))","v":0},{"$f":"intern!G31","v":0},null,null,{"$f":"IF(B31=\"FT\",G31,0)","v":0},null,null,null,null,null,null,null,null,null,null,null,null,null,0]
["Mi. 21.",null,null,null,null,{"$f":"IF(OR(B32=0,C32=0),0,IF(C32>B32,ROUND((C32-B32)*24-((E32-D32)*24),2),ROUND((C32-B32+1)*24-((E32-D32)*24),2)))","v":0},{"$f":"intern!G32","v":0},null,null,{"$f":"IF(B32=\"FT\",G32,0)","v":0},null,null,null,null,null,null,null,null,null,null,null,null,null,0]
["Do. 22.",null,null,null,null,{"$f":"IF(OR(B33=0,C33=0),0,IF(C33>B33,ROUND((C33-B33)*24-((E33-D33)*24),2),ROUND((C33-B33+1)*24-((E33-D33)*24),2)))","v":0},{"$f":"intern!G33","v":0},null,null,{"$f":"IF(B33=\"FT\",G33,0)","v":0},null,null,null,null,null,null,null,null,null,null,115,"Normalstd",null,0]
["Fr. 23.",null,null,null,null,{"$f":"IF(OR(B34=0,C34=0),0,IF(C34>B34,ROUND((C34-B34)*24-((E34-D34)*24),2),ROUND((C34-B34+1)*24-((E34-D34)*24),2)))","v":0},{"$f":"intern!G34","v":0},null,null,{"$f":"IF(B34=\"FT\",G34,0)","v":0},null,null,null,null,null,null,null,null,null,null,117,"korr.Gehalt",null,0]
["Sa. 24.",null,null,null,null,{"$f":"IF(OR(B35=0,C35=0),0,IF(C35>B35,ROUND((C35-B35)*24-((E35-D35)*24),2),ROUND((C35-B35+1)*24-((E35-D35)*24),2)))","v":0},{"$f":"intern!G35","v":0},null,null,{"$f":"IF(B35=\"FT\",G35,0)","v":0},null,null,null,null,null,null,null,null,null,null,250,"Feiertag Std",null,0]
["So. 25.",null,null,null,null,{"$f":"IF(OR(B36=0,C36=0),0,IF(C36>B36,ROUND((C36-B36)*24-((E36-D36)*24),2),ROUND((C36-B36+1)*24-((E36-D36)*24),2)))","v":0},{"$f":"intern!G36","v":0},null,null,{"$f":"IF(B36=\"FT\",G36,0)","v":0},null,null,null,null,null,null,null,null,null,null,252,"Arzt/Amt Std",null,0]
["Mo. 26.",null,null,null,null,{"$f":"IF(OR(B37=0,C37=0),0,IF(C37>B37,ROUND((C37-B37)*24-((E37-D37)*24),2),ROUND((C37-B37+1)*24-((E37-D37)*24),2)))","v":0},{"$f":"intern!G37","v":0},null,null,{"$f":"IF(B37=\"FT\",G37,0)","v":0},null,null,null,null,null,null,null,null,null,null,253,"bezFZ Std",null,0]
["Di. 27.",null,null,null,null,{"$f":"IF(OR(B38=0,C38=0),0,IF(C38>B38,ROUND((C38-B38)*24-((E38-D38)*24),2),ROUND((C38-B38+1)*24-((E38-D38)*24),2)))","v":0},{"$f":"intern!G38","v":0},null,null,{"$f":"IF(B38=\"FT\",G38,0)","v":0},null,null,null,null,null,null,null,null,null,null,475,"NE Std",null,0]
["Mi. 28.",null,null,null,null,{"$f":"IF(OR(B39=0,C39=0),0,IF(C39>B39,ROUND((C39-B39)*24-((E39-D39)*24),2),ROUND((C39-B39+1)*24-((E39-D39)*24),2)))","v":0},{"$f":"intern!G39","v":0},null,null,{"$f":"IF(B39=\"FT\",G39,0)","v":0},null,null,null,null,null,null,null,null,null,null,198,"Urlaubs Tage",null,0]
["Do. 29.",null,null,null,null,{"$f":"IF(OR(B40=0,C40=0),0,IF(C40>B40,ROUND((C40-B40)*24-((E40-D40)*24),2),ROUND((C40-B40+1)*24-((E40-D40)*24),2)))","v":0},{"$f":"intern!G40","v":0},null,null,{"$f":"IF(B40=\"FT\",G40,0)","v":0},null,null,null,null,null,null,null,null,null,null,251,"UrlaubsStd",null,0]
["Fr. 30.",null,null,null,null,{"$f":"IF(OR(B41=0,C41=0),0,IF(C41>B41,ROUND((C41-B41)*24-((E41-D41)*24),2),ROUND((C41-B41+1)*24-((E41-D41)*24),2)))","v":0},{"$f":"intern!G41","v":0},null,null,{"$f":"IF(B41=\"FT\",G41,0)","v":0},null,null,null,null,null,null,null,null,null,null,421,"Kranken Tage"]
["Sa. 31.",null,null,null,null,{"$f":"IF(OR(B42=0,C42=0),0,IF(C42>B42,ROUND((C42-B42)*24-((E42-D42)*24),2),ROUND((C42-B42+1)*24-((E42-D42)*24),2)))","v":0},{"$f":"intern!G42","v":0},null,null,{"$f":"IF(B42=\"FT\",G42,0)","v":0},null,null,null,null,null,null,null,null,null,null,450,"KrankenStd"]
["Gesamt:",null,null,null,null,{"$f":"SUM(F12:F42)","v":0},{"$f":"SUM(G12:G42)","v":0},{"$f":"COUNTIF(H12:H42,\"JA\")","v":0},{"$f":"SUM(I12:I42)","v":0},0,0,0,0,0,0,0,null,null,null,null,485,"SchulungStd"]
["Korrekturzeile:",null,null,null,null,null,null,null,null,null,null,null,null,null,null,null,null,null,null,null,385,"km-Geld"]
[" Die Ausführung der oben angegebenen Tätigkeit und die",null,null,null,null,null,null,null,null,null,null,null,null,"Handzeichen SB",null,"Handzeichen NL"]
[" angegebene Stundenzahl bestätigen wir hiermit."]
[]
[]
[]
[]
[]
[" __________________________________________________ "]
[" Datum, Stempel und Unterschrift des Auftraggebers"]
[" Ich erkläre, daß ich dieses Formular wahrheitsgemäß ausgefüllt",null,null,null,null,null,null,null,null,null,null,null,null,null,null,null,null,null,null,null,120,"Honorar"]
[" und keinerleit Eintragungen nach Unterschrift des Auftraggebers",null,null,null,null,null,null,null,"Bemerkung"]
[" vorgenommen habe.",null,null,null,null,null,null,null,"Ab 01.07.2021 gilt die gesetzliche Regelung zur Erfassung von Home Office Tagen in der Zeitaufzeichnung. \nMit Ihrer Unterschrift bestätigen Sie somit auch diese Tage. "]
[]
[]
[]
[]
[]
[" __________________________________________________ "]
[" Datum, Unterschrift des Mitarbeiters"]

{"sheet":"intern","index":1,"n_rows":63,"n_cols":102,"rows_kept":63,"cut":false,"hidden":false,"merged":[[62,0,62,6],[55,0,60,6],[52,0,52,6],[43,0,43,2],[53,0,53,6],[54,0,54,6],[0,14,1,14],[0,15,1,16],[0,17,0,19],[5,20,5,21],[4,17,4,19],[2,17,2,19],[0,21,3,21],[0,0,1,5],[8,7,10,7],[8,1,8,2],[4,7,4,9],[6,7,6,9],[2,0,2,6],[8,8,10,8],[4,0,4,6],[6,0,6,6],[7,0,7,2],[0,6,1,6],[8,0,10,0],[44,14,48,15],[10,16,10,17],[10,18,10,19],[8,18,8,19],[44,0,44,6],[45,0,50,6],[44,12,48,13],[42,0,42,2],[8,3,8,4],[9,16,9,17],[9,18,9,19],[63,18,63,19],[57,18,57,19],[58,18,58,19],[59,18,59,19],[60,18,60,19],[61,18,61,19],[62,18,62,19],[54,18,54,19],[55,16,55,17],[8,20,10,20],[6,20,7,21],[55,18,55,19],[6,19,7,19]]}
["Stundennachweis Nr.",null,null,null,null,null,"01/26",null,null,null,null,null,null,null,null,0,null,"Personalnummer",null,null,null,"DIS"]
[null,null,null,null,null,null,null,null,null,null,null,null,null,null,null,null,null,{"$f":"Mitarbeiter!R2","v":0}]
["Name des Mitarbeiters",null,null,null,null,null,null,"Auftraggeber",null,null,null,null,null,null,null,null,null,"Kostenstelle"]
[{"$f":"Mitarbeiter!A4","v":0},null,null,null,null,null,null,{"$f":"Mitarbeiter!I4","v":0},null,null,null,null,null,null,null,null,null,{"$f":"Mitarbeiter!R4","v":0}]
["Vorname",null,null,null,null,null,null,"Abteilung/Baustelle",null,null,null,null,null,null,null,null,null,"Kundennummer",null,null,"Einsatz Nr."]
[{"$f":"Mitarbeiter!A6","v":0},null,null,null,null,null,null,{"$f":"Mitarbeiter!I6","v":0},null,null,null,null,null,null,null,null,null,{"$f":"Mitarbeiter!R6","v":0}]
["Monat/Woche/Zeitraum",null,null,null,null,null,null,"Eingesetzt als",null,null,null,null,null,null,null,null,null,"Lohn","Gehalt","VS"]
["Jänner 2026",null,null,null,null,null,null,{"$f":"Mitarbeiter!I8","v":0}]
["Datum","Arbeitszeit",null,"Pause",null,"Gesamt-",null,0.5,1,"Feier-","Urlaub","Krank","Amt","bez.","Schul-","NE",null,null,null,null,"LA"]
[null,"von","bis","von","bis","arbeits-","Normal-",null,null,"tag",null,null,"Arzt","FZ","ung",null,"Leistungen mit",null,"Leistungen ohne"]
[null,"(HH:MM)","(HH:MM)","(HH:MM)","(HH:MM)","stunden","stunden",null,null,null,null,null,"SW",null,null,null,"Weiterberechnung",null,"Weiterberechnung"]
["Do. 1.",{"$f":"Mitarbeiter!B12","v":"FT"},{"$f":"Mitarbeiter!C12","v":"00:00:00"},{"$f":"Mitarbeiter!D12","v":"00:00:00"},{"$f":"Mitarbeiter!E12","v":"00:00:00"},{"$f":"IF(OR(B12=0,C12=0),0,IF(C12>B12,ROUND((C12-B12)*24-((E12-D12)*24),2),ROUND((C12-B12+1)*24-((E12-D12)*24),2)))","v":0},null,null,null,{"$f":"IF(B12=\"FT\",G12,0)","v":0},null,null,null,null,null,null,"Std.","EUR","Std.","EUR",null,null,null,null,null,null,null,null,null,null,null,null,null,null,null,null,null,null,null,null,{"$f":"IF(OR(B12=\"U\",B12=\"u\"),1,\"\")","v":""},{"$f":"IF(OR(B12=\"K\",B12=\"k\"),1,\"\")","v":""},null,null,null,null,null,null,null,null,null,null,null,null,null,null,null,null,null,null,null,null,null,null,null,null,null,null,null,null,null,null,null,null,null,null,null,null,null,null,null,null,null,null,null,null,null,null,null,null,null,null,null,null,null,null,null,null,null,null,{"$f":"IF(OR(B12=\"K\",B12=\"k\"),1)","v":false},{"$f":"IF(OR(C12=\"U\",C12=\"u\"),1)","v":false}]
["Fr. 2.",{"$f":"Mitarbeiter!B13","v":"00:00:00"},{"$f":"Mitarbeiter!C13","v":"00:00:00"},{"$f":"Mitarbeiter!D13","v":"00:00:00"},{"$f":"Mitarbeiter!E13","v":"00:00:00"},{"$f":"IF(OR(B13=0,C13=0),0,IF(C13>B13,ROUND((C13-B13)*24-((E13-D13)*24),2),ROUND((C13-B13+1)*24-((E13-D13)*24),2)))","v":0},null,null,null,{"$f":"IF(B13=\"FT\",G13,0)","v":0},null,null,null,null,null,null,null,null,null,null,125,null,null,null,null,null,null,null,null,null,null,null,null,null,null,null,null,null,null,null,{"$f":"IF(OR(B13=\"U\",B13=\"u\"),1,\"\")","v":""},{"$f":"IF(OR(B13=\"K\",B13=\"k\"),1,\"\")","v":""},null,null,null,null,null,null,null,null,null,null,null,null,null,null,null,null,null,null,null,null,null,null,null,null,null,null,null,null,null,null,null,null,null,null,null,null,null,null,null,null,null,null,null,null,null,null,null,null,null,null,null,null,null,null,null,null,null,null,false,false]
["Sa. 3.",{"$f":"Mitarbeiter!B14","v":"00:00:00"},{"$f":"Mitarbeiter!C14","v":"00:00:00"},{"$f":"Mitarbeiter!D14","v":"00:00:00"},{"$f":"Mitarbeiter!E14","v":"00:00:00"},{"$f":"IF(OR(B14=0,C14=0),0,IF(C14>B14,ROUND((C14-B14)*24-((E14-D14)*24),2),ROUND((C14-B14+1)*24-((E14-D14)*24),2)))","v":0},null,null,null,{"$f":"IF(B14=\"FT\",G14,0)","v":0},null,null,null,null,null,null,null,null,null,null,200,null,null,null,null,null,null,null,null,null,null,null,null,null,null,null,null,null,null,null,{"$f":"IF(OR(B14=\"U\",B14=\"u\"),1,\"\")","v":""},{"$f":"IF(OR(B14=\"K\",B14=\"k\"),1,\"\")","v":""},null,null,null,null,null,null,null,null,null,null,null,null,null,null,null,null,null,null,null,null,null,null,null,null,null,null,null,null,null,null,null,null,null,null,null,null,null,null,null,null,null,null,null,null,null,null,null,null,null,null,null,null,null,null,null,null,null,null,false,false]
["So. 4.",{"$f":"Mitarbeiter!B15","v":"00:00:00"},{"$f":"Mitarbeiter!C15","v":"00:00:00"},{"$f":"Mitarbeiter!D15","v":"00:00:00"},{"$f":"Mitarbeiter!E15","v":"00:00:00"},{"$f":"IF(OR(B15=0,C15=0),0,IF(C15>B15,ROUND((C15-B15)*24-((E15-D15)*24),2),ROUND((C15-B15+1)*24-((E15-D15)*24),2)))","v":0},null,null,null,{"$f":"IF(B15=\"FT\",G15,0)","v":0},null,null,null,null,null,null,null,null,null,null,202,null,null,null,null,null,null,null,null,null,null,null,null,null,null,null,null,null,null,null,{"$f":"IF(OR(B15=\"U\",B15=\"u\"),1,\"\")","v":""},{"$f":"IF(OR(B15=\"K\",B15=\"k\"),1,\"\")","v":""},null,null,null,null,null,null,null,null,null,null,null,null,null,null,null,null,null,null,null,null,null,null,null,null,null,null,null,null,null,null,null,null,null,null,null,null,null,null,null,null,null,null,null,null,null,null,null,null,null,null,null,null,null,null,null,null,null,null,false,false]
["Mo. 5.",{"$f":"Mitarbeiter!B16","v":"00:00:00"},{"$f":"Mitarbeiter!C16","v":"00:00:00"},{"$f":"Mitarbeiter!D16","v":"00:00:00"},{"$f":"Mitarbeiter!E16","v":"00:00:00"},{"$f":"IF(OR(B16=0,C16=0),0,IF(C16>B16,ROUND((C16-B16)*24-((E16-D16)*24),2),ROUND((C16-B16+1)*24-((E16-D16)*24),2)))","v":0},null,null,null,{"$f":"IF(B16=\"FT\",G16,0)","v":0},null,null,null,null,null,null,null,null,null,null,203,null,null,null,null,null,null,null,null,null,null,null,null,null,null,null,null,null,null,null,{"$f":"IF(OR(B16=\"U\",B16=\"u\"),1,\"\")","v":""},{"$f":"IF(OR(B16=\"K\",B16=\"k\"),1,\"\")","v":""},null,null,null,null,null,null,null,null,null,null,null,null,null,null,null,null,null,null,null,null,null,null,null,null,null,null,null,null,null,null,null,null,null,null,null,null,null,null,null,null,null,null,null,null,null,null,null,null,null,null,null,null,null,null,null,null,null,null,false,false]
["Di. 6.",{"$f":"Mitarbeiter!B17","v":"FT"},{"$f":"Mitarbeiter!C17","v":"00:00:00"},{"$f":"Mitarbeiter!D17","v":"00:00:00"},{"$f":"Mitarbeiter!E17","v":"00:00:00"},{"$f":"IF(OR(B17=0,C17=0),0,IF(C17>B17,ROUND((C17-B17)*24-((E17-D17)*24),2),ROUND((C17-B17+1)*24-((E17-D17)*24),2)))","v":0},null,null,null,{"$f":"IF(B17=\"FT\",G17,0)","v":0},null,null,null,null,null,null,null,null,null,null,330,null,null,null,null,null,null,null,null,null,null,null,null,null,null,null,null,null,null,null,{"$f":"IF(OR(B17=\"U\",B17=\"u\"),1,\"\")","v":""},{"$f":"IF(OR(B17=\"K\",B17=\"k\"),1,\"\")","v":""},null,null,null,null,null,null,null,null,null,null,null,null,null,null,null,null,null,null,null,null,null,null,null,null,null,null,null,null,null,null,null,null,null,null,null,null,null,null,null,null,null,null,null,null,null,null,null,null,null,null,null,null,null,null,null,null,null,null,false,false]
["Mi. 7.",{"$f":"Mitarbeiter!B18","v":"00:00:00"},{"$f":"Mitarbeiter!C18","v":"00:00:00"},{"$f":"Mitarbeiter!D18","v":"00:00:00"},{"$f":"Mitarbeiter!E18","v":"00:00:00"},{"$f":"IF(OR(B18=0,C18=0),0,IF(C18>B18,ROUND((C18-B18)*24-((E18-D18)*24),2),ROUND((C18-B18+1)*24-((E18-D18)*24),2)))","v":0},null,null,null,{"$f":"IF(B18=\"FT\",G18,0)","v":0},null,null,null,null,null,null,null,null,null,null,340,null,null,null,null,null,null,null,null,null,null,null,null,null,null,null,null,null,null,null,{"$f":"IF(OR(B18=\"U\",B18=\"u\"),1,\"\")","v":""},{"$f":"IF(OR(B18=\"K\",B18=\"k\"),1,\"\")","v":""},null,null,null,null,null,null,null,null,null,null,null,null,null,null,null,null,null,null,null,null,null,null,null,null,null,null,null,null,null,null,null,null,null,null,null,null,null,null,null,null,null,null,null,null,null,null,null,null,null,null,null,null,null,null,null,null,null,null,false,false]
["Do. 8.",{"$f":"Mitarbeiter!B19","v":"00:00:00"},{"$f":"Mitarbeiter!C19","v":"00:00:00"},{"$f":"Mitarbeiter!D19","v":"00:00:00"},{"$f":"Mitarbeiter!E19","v":"00:00:00"},{"$f":"IF(OR(B19=0,C19=0),0,IF(C19>B19,ROUND((C19-B19)*24-((E19-D19)*24),2),ROUND((C19-B19+1)*24-((E19-D19)*24),2)))","v":0},null,null,null,{"$f":"IF(B19=\"FT\",G19,0)","v":0},null,null,null,null,null,null,null,null,null,null,341,null,null,null,null,null,null,null,null,null,null,null,null,null,null,null,null,null,null,null,{"$f":"IF(OR(B19=\"U\",B19=\"u\"),1,\"\")","v":""},{"$f":"IF(OR(B19=\"K\",B19=\"k\"),1,\"\")","v":""},null,null,null,null,null,null,null,null,null,null,null,null,null,null,null,null,null,null,null,null,null,null,null,null,null,null,null,null,null,null,null,null,null,null,null,null,null,null,null,null,null,null,null,null,null,null,null,null,null,null,null,null,null,null,null,null,null,null,false,false]
["Fr. 9.",{"$f":"Mitarbeiter!B20","v":"00:00:00"},{"$f":"Mitarbeiter!C20","v":"00:00:00"},{"$f":"Mitarbeiter!D20","v":"00:00:00"},{"$f":"Mitarbeiter!E20","v":"00:00:00"},{"$f":"IF(OR(B20=0,C20=0),0,IF(C20>B20,ROUND((C20-B20)*24-((E20-D20)*24),2),ROUND((C20-B20+1)*24-((E20-D20)*24),2)))","v":0},null,null,null,{"$f":"IF(B20=\"FT\",G20,0)","v":0},null,null,null,null,null,null,null,null,null,null,35,null,null,null,null,null,null,null,null,null,null,null,null,null,null,null,null,null,null,null,{"$f":"IF(OR(B20=\"U\",B20=\"u\"),1,\"\")","v":""},{"$f":"IF(OR(B20=\"K\",B20=\"k\"),1,\"\")","v":""},null,null,null,null,null,null,null,null,null,null,null,null,null,null,null,null,null,null,null,null,null,null,null,null,null,null,null,null,null,null,null,null,null,null,null,null,null,null,null,null,null,null,null,null,null,null,null,null,null,null,null,null,null,null,null,null,null,null,false,false]
["Sa. 10.",{"$f":"Mitarbeiter!B21","v":"00:00:00"},{"$f":"Mitarbeiter!C21","v":"00:00:00"},{"$f":"Mitarbeiter!D21","v":"00:00:00"},{"$f":"Mitarbeiter!E21","v":"00:00:00"},{"$f":"IF(OR(B21=0,C21=0),0,IF(C21>B21,ROUND((C21-B21)*24-((E21-D21)*24),2),ROUND((C21-B21+1)*24-((E21-D21)*24),2)))","v":0},null,null,null,{"$f":"IF(B21=\"FT\",G21,0)","v":0},null,null,null,null,null,null,null,null,null,null,470,null,null,null,null,null,null,null,null,null,null,null,null,null,null,null,null,null,null,null,{"$f":"IF(OR(B21=\"U\",B21=\"u\"),1,\"\")","v":""},{"$f":"IF(OR(B21=\"K\",B21=\"k\"),1,\"\")","v":""},null,null,null,null,null,null,null,null,null,null,null,null,null,null,null,null,null,null,null,null,null,null,null,null,null,null,null,null,null,null,null,null,null,null,null,null,null,null,null,null,null,null,null,null,null,null,null,null,null,null,null,null,null,null,null,null,null,null,false,false]
["So. 11.",{"$f":"Mitarbeiter!B22","v":"00:00:00"},{"$f":"Mitarbeiter!C22","v":"00:00:00"},{"$f":"Mitarbeiter!D22","v":"00:00:00"},{"$f":"Mitarbeiter!E22","v":"00:00:00"},{"$f":"IF(OR(B22=0,C22=0),0,IF(C22>B22,ROUND((C22-B22)*24-((E22-D22)*24),2),ROUND((C22-B22+1)*24-((E22-D22)*24),2)))","v":0},null,null,null,{"$f":"IF(B22=\"FT\",G22,0)","v":0},null,null,null,null,null,null,null,null,null,null,220,null,null,null,null,null,null,null,null,null,null,null,null,null,null,null,null,null,null,null,{"$f":"IF(OR(B22=\"U\",B22=\"u\"),1,\"\")","v":""},{"$f":"IF(OR(B22=\"K\",B22=\"k\"),1,\"\")","v":""},null,null,null,null,null,null,null,null,null,null,null,null,null,null,null,null,null,null,null,null,null,null,null,null,null,null,null,null,null,null,null,null,null,null,null,null,null,null,null,null,null,null,null,null,null,null,null,null,null,null,null,null,null,null,null,null,null,null,false,false]
["Mo. 12.",{"$f":"Mitarbeiter!B23","v":"00:00:00"},{"$f":"Mitarbeiter!C23","v":"00:00:00"},{"$f":"Mitarbeiter!D23","v":"00:00:00"},{"$f":"Mitarbeiter!E23","v":"00:00:00"},{"$f":"IF(OR(B23=0,C23=0),0,IF(C23>B23,ROUND((C23-B23)*24-((E23-D23)*24),2),ROUND((C23-B23+1)*24-((E23-D23)*24),2)))","v":0},null,null,null,{"$f":"IF(B23=\"FT\",G23,0)","v":0},null,null,null,null,null,null,null,null,null,null,221,null,null,null,null,null,null,null,null,null,null,null,null,null,null,null,null,null,null,null,{"$f":"IF(OR(B23=\"U\",B23=\"u\"),1,\"\")","v":""},{"$f":"IF(OR(B23=\"K\",B23=\"k\"),1,\"\")","v":""},null,null,null,null,null,null,null,null,null,null,null,null,null,null,null,null,null,null,null,null,null,null,null,null,null,null,null,null,null,null,null,null,null,null,null,null,null,null,null,null,null,null,null,null,null,null,null,null,null,null,null,null,null,null,null,null,null,null,false,false]
["Di. 13.",{"$f":"Mitarbeiter!B24","v":"00:00:00"},{"$f":"Mitarbeiter!C24","v":"00:00:00"},{"$f":"Mitarbeiter!D24","v":"00:00:00"},{"$f":"Mitarbeiter!E24","v":"00:00:00"},{"$f":"IF(OR(B24=0,C24=0),0,IF(C24>B24,ROUND((C24-B24)*24-((E24-D24)*24),2),ROUND((C24-B24+1)*24-((E24-D24)*24),2)))","v":0},null,null,null,{"$f":"IF(B24=\"FT\",G24,0)","v":0},null,null,null,null,null,null,null,null,null,null,null,null,null,null,null,null,null,null,null,null,null,null,null,null,null,null,null,null,null,null,{"$f":"IF(OR(B24=\"U\",B24=\"u\"),1,\"\")","v":""},{"$f":"IF(OR(B24=\"K\",B24=\"k\"),1,\"\")","v":""},null,null,null,null,null,null,null,null,null,null,null,null,null,null,null,null,null,null,null,null,null,null,null,null,null,null,null,null,null,null,null,null,null,null,null,null,null,null,null,null,null,null,null,null,null,null,null,null,null,null,null,null,null,null,null,null,null,null,false,false]
["Mi. 14.",{"$f":"Mitarbeiter!B25","v":"00:00:00"},{"$f":"Mitarbeiter!C25","v":"00:00:00"},{"$f":"Mitarbeiter!D25","v":"00:00:00"},{"$f":"Mitarbeiter!E25","v":"00:00:00"},{"$f":"IF(OR(B25=0,C25=0),0,IF(C25>B25,ROUND((C25-B25)*24-((E25-D25)*24),2),ROUND((C25-B25+1)*24-((E25-D25)*24),2)))","v":0},null,null,null,{"$f":"IF(B25=\"FT\",G25,0)","v":0},null,null,null,null,null,null,null,null,null,null,null,null,null,null,null,null,null,null,null,null,null,null,null,null,null,null,null,null,null,null,{"$f":"IF(OR(B25=\"U\",B25=\"u\"),1,\"\")","v":""},{"$f":"IF(OR(B25=\"K\",B25=\"k\"),1,\"\")","v":""},null,null,null,null,null,null,null,null,null,null,null,null,null,null,null,null,null,null,null,null,null,null,null,null,null,null,null,null,null,null,null,null,null,null,null,null,null,null,null,null,null,null,null,null,null,null,null,null,null,null,null,null,null,null,null,null,null,null,false,false]
["Do. 15.",{"$f":"Mitarbeiter!B26","v":"00:00:00"},{"$f":"Mitarbeiter!C26","v":"00:00:00"},{"$f":"Mitarbeiter!D26","v":"00:00:00"},{"$f":"Mitarbeiter!E26","v":"00:00:00"},{"$f":"IF(OR(B26=0,C26=0),0,IF(C26>B26,ROUND((C26-B26)*24-((E26-D26)*24),2),ROUND((C26-B26+1)*24-((E26-D26)*24),2)))","v":0},null,null,null,{"$f":"IF(B26=\"FT\",G26,0)","v":0},null,null,null,null,null,null,null,null,null,null,210,null,null,null,null,null,null,null,null,null,null,null,null,null,null,null,null,null,null,null,{"$f":"IF(OR(B26=\"U\",B26=\"u\"),1,\"\")","v":""},{"$f":"IF(OR(B26=\"K\",B26=\"k\"),1,\"\")","v":""},null,null,null,null,null,null,null,null,null,null,null,null,null,null,null,null,null,null,null,null,null,null,null,null,null,null,null,null,null,null,null,null,null,null,null,null,null,null,null,null,null,null,null,null,null,null,null,null,null,null,null,null,null,null,null,null,null,null,false,false]
["Fr. 16.",{"$f":"Mitarbeiter!B27","v":"00:00:00"},{"$f":"Mitarbeiter!C27","v":"00:00:00"},{"$f":"Mitarbeiter!D27","v":"00:00:00"},{"$f":"Mitarbeiter!E27","v":"00:00:00"},{"$f":"IF(OR(B27=0,C27=0),0,IF(C27>B27,ROUND((C27-B27)*24-((E27-D27)*24),2),ROUND((C27-B27+1)*24-((E27-D27)*24),2)))","v":0},null,null,null,{"$f":"IF(B27=\"FT\",G27,0)","v":0},null,null,null,null,null,null,null,null,null,null,211,null,null,null,null,null,null,null,null,null,null,null,null,null,null,null,null,null,null,null,{"$f":"IF(OR(B27=\"U\",B27=\"u\"),1,\"\")","v":""},{"$f":"IF(OR(B27=\"K\",B27=\"k\"),1,\"\")","v":""},null,null,null,null,null,null,null,null,null,null,null,null,null,null,null,null,null,null,null,null,null,null,null,null,null,null,null,null,null,null,null,null,null,null,null,null,null,null,null,null,null,null,null,null,null,null,null,null,null,null,null,null,null,null,null,null,null,null,false,false]
["Sa. 17.",{"$f":"Mitarbeiter!B28","v":"00:00:00"},{"$f":"Mitarbeiter!C28","v":"00:00:00"},{"$f":"Mitarbeiter!D28","v":"00:00:00"},{"$f":"Mitarbeiter!E28","v":"00:00:00"},{"$f":"IF(OR(B28=0,C28=0),0,IF(C28>B28,ROUND((C28-B28)*24-((E28-D28)*24),2),ROUND((C28-B28+1)*24-((E28-D28)*24),2)))","v":0},null,null,null,{"$f":"IF(B28=\"FT\",G28,0)","v":0},null,null,null,null,null,null,null,null,null,null,null,null,null,null,null,null,null,null,null,null,null,null,null,null,null,null,null,null,null,null,{"$f":"IF(OR(B28=\"U\",B28=\"u\"),1,\"\")","v":""},{"$f":"IF(OR(B28=\"K\",B28=\"k\"),1,\"\")","v":""},null,null,null,null,null,null,null,null,null,null,null,null,null,null,null,null,null,null,null,null,null,null,null,null,null,null,null,null,null,null,null,null,null,null,null,null,null,null,null,null,null,null,null,null,null,null,null,null,null,null,null,null,null,null,null,null,null,null,false,false]
["So. 18.",{"$f":"Mitarbeiter!B29","v":"00:00:00"},{"$f":"Mitarbeiter!C29","v":"00:00:00"},{"$f":"Mitarbeiter!D29","v":"00:00:00"},{"$f":"Mitarbeiter!E29","v":"00:00:00"},{"$f":"IF(OR(B29=0,C29=0),0,IF(C29>B29,ROUND((C29-B29)*24-((E29-D29)*24),2),ROUND((C29-B29+1)*24-((E29-D29)*24),2)))","v":0},null,null,null,{"$f":"IF(B29=\"FT\",G29,0)","v":0},null,null,null,null,null,null,null,null,null,null,502,null,null,null,null,null,null,null,null,null,null,null,null,null,null,null,null,null,null,null,{"$f":"IF(OR(B29=\"U\",B29=\"u\"),1,\"\")","v":""},{"$f":"IF(OR(B29=\"K\",B29=\"k\"),1,\"\")","v":""},null,null,null,null,null,null,null,null,null,null,null,null,null,null,null,null,null,null,null,null,null,null,null,null,null,null,null,null,null,null,null,null,null,null,null,null,null,null,null,null,null,null,null,null,null,null,null,null,null,null,null,null,null,null,null,null,null,null,false,false]
["Mo. 19.",{"$f":"Mitarbeiter!B30","v":"00:00:00"},{"$f":"Mitarbeiter!C30","v":"00:00:00"},{"$f":"Mitarbeiter!D30","v":"00:00:00"},{"$f":"Mitarbeiter!E30","v":"00:00:00"},{"$f":"IF(OR(B30=0,C30=0),0,IF(C30>B30,ROUND((C30-B30)*24-((E30-D30)*24),2),ROUND((C30-B30+1)*24-((E30-D30)*24),2)))","v":0},null,null,null,{"$f":"IF(B30=\"FT\",G30,0)","v":0},null,null,null,null,null,null,null,null,null,null,503,null,null,null,null,null,null,null,null,null,null,null,null,null,null,null,null,null,null,null,{"$f":"IF(OR(B30=\"U\",B30=\"u\"),1,\"\")","v":""},{"$f":"IF(OR(B30=\"K\",B30=\"k\"),1,\"\")","v":""},null,null,null,null,null,null,null,null,null,null,null,null,null,null,null,null,null,null,null,null,null,null,null,null,null,null,null,null,null,null,null,null,null,null,null,null,null,null,null,null,null,null,null,null,null,null,null,null,null,null,null,null,null,null,null,null,null,null,false,false]
["Di. 20.",{"$f":"Mitarbeiter!B31","v":"00:00:00"},{"$f":"Mitarbeiter!C31","v":"00:00:00"},{"$f":"Mitarbeiter!D31","v":"00:00:00"},{"$f":"Mitarbeiter!E31","v":"00:00:00"},{"$f":"IF(OR(B31=0,C31=0),0,IF(C31>B31,ROUND((C31-B31)*24-((E31-D31)*24),2),ROUND((C31-B31+1)*24-((E31-D31)*24),2)))","v":0},null,null,null,{"$f":"IF(B31=\"FT\",G31,0)","v":0},null,null,null,null,null,null,null,null,null,null,522,null,null,null,null,null,null,null,null,null,null,null,null,null,null,null,null,null,null,null,{"$f":"IF(OR(B31=\"U\",B31=\"u\"),1,\"\")","v":""},{"$f":"IF(OR(B31=\"K\",B31=\"k\"),1,\"\")","v":""},null,null,null,null,null,null,null,null,null,null,null,null,null,null,null,null,null,null,null,null,null,null,null,null,null,null,null,null,null,null,null,null,null,null,null,null,null,null,null,null,null,null,null,null,null,null,null,null,null,null,null,null,null,null,null,null,null,null,false,false]
["Mi. 21.",{"$f":"Mitarbeiter!B32","v":"00:00:00"},{"$f":"Mitarbeiter!C32","v":"00:00:00"},{"$f":"Mitarbeiter!D32","v":"00:00:00"},{"$f":"Mitarbeiter!E32","v":"00:00:00"},{"$f":"IF(OR(B32=0,C32=0),0,IF(C32>B32,ROUND((C32-B32)*24-((E32-D32)*24),2),ROUND((C32-B32+1)*24-((E32-D32)*24),2)))","v":0},null,null,null,{"$f":"IF(B32=\"FT\",G32,0)","v":0},null,null,null,null,null,null,null,null,null,null,523,null,null,null,null,null,null,null,null,null,null,null,null,null,null,null,null,null,null,null,{"$f":"IF(OR(B32=\"U\",B32=\"u\"),1,\"\")","v":""},{"$f":"IF(OR(B32=\"K\",B32=\"k\"),1,\"\")","v":""},null,null,null,null,null,null,null,null,null,null,null,null,null,null,null,null,null,null,null,null,null,null,null,null,null,null,null,null,null,null,null,null,null,null,null,null,null,null,null,null,null,null,null,null,null,null,null,null,null,null,null,null,null,null,null,null,null,null,false,false]
["Do. 22.",{"$f":"Mitarbeiter!B33","v":"00:00:00"},{"$f":"Mitarbeiter!C33","v":"00:00:00"},{"$f":"Mitarbeiter!D33","v":"00:00:00"},{"$f":"Mitarbeiter!E33","v":"00:00:00"},{"$f":"IF(OR(B33=0,C33=0),0,IF(C33>B33,ROUND((C33-B33)*24-((E33-D33)*24),2),ROUND((C33-B33+1)*24-((E33-D33)*24),2)))","v":0},null,null,null,{"$f":"IF(B33=\"FT\",G33,0)","v":0},null,null,null,null,null,null,{"$f":"F43","v":0},null,{"$f":"G43-S35-S36-S37-S38-S40-S42-S43","v":0},null,115,"Normalstd",null,null,null,null,null,null,null,null,null,null,null,null,null,null,null,null,null,null,{"$f":"IF(OR(B33=\"U\",B33=\"u\"),1,\"\")","v":""},{"$f":"IF(OR(B33=\"K\",B33=\"k\"),1,\"\")","v":""},null,null,null,null,null,null,null,null,null,null,null,null,null,null,null,null,null,null,null,null,null,null,null,null,null,null,null,null,null,null,null,null,null,null,null,null,null,null,null,null,null,null,null,null,null,null,null,null,null,null,null,null,null,null,null,null,null,null,false,false]
["Fr. 23.",{"$f":"Mitarbeiter!B34","v":"00:00:00"},{"$f":"Mitarbeiter!C34","v":"00:00:00"},{"$f":"Mitarbeiter!D34","v":"00:00:00"},{"$f":"Mitarbeiter!E34","v":"00:00:00"},{"$f":"IF(OR(B34=0,C34=0),0,IF(C34>B34,ROUND((C34-B34)*24-((E34-D34)*24),2),ROUND((C34-B34+1)*24-((E34-D34)*24),2)))","v":0},null,null,null,{"$f":"IF(B34=\"FT\",G34,0)","v":0},null,null,null,null,null,null,null,null,null,null,117,"korr.Gehalt",null,null,null,null,null,null,null,null,null,null,null,null,null,null,null,null,null,null,{"$f":"IF(OR(B34=\"U\",B34=\"u\"),1,\"\")","v":""},{"$f":"IF(OR(B34=\"K\",B34=\"k\"),1,\"\")","v":""},null,null,null,null,null,null,null,null,null,null,null,null,null,null,null,null,null,null,null,null,null,null,null,null,null,null,null,null,null,null,null,null,null,null,null,null,null,null,null,null,null,null,null,null,null,null,null,null,null,null,null,null,null,null,null,null,null,null,false,false]
["Sa. 24.",{"$f":"Mitarbeiter!B35","v":"00:00:00"},{"$f":"Mitarbeiter!C35","v":"00:00:00"},{"$f":"Mitarbeiter!D35","v":"00:00:00"},{"$f":"Mitarbeiter!E35","v":"00:00:00"},{"$f":"IF(OR(B35=0,C35=0),0,IF(C35>B35,ROUND((C35-B35)*24-((E35-D35)*24),2),ROUND((C35-B35+1)*24-((E35-D35)*24),2)))","v":0},null,null,null,{"$f":"IF(B35=\"FT\",G35,0)","v":0},null,null,null,null,null,null,null,null,{"$f":"J43","v":0},null,250,"Feiertag Std",null,null,null,null,null,null,null,null,null,null,null,null,null,null,null,null,null,null,{"$f":"IF(OR(B35=\"U\",B35=\"u\"),1,\"\")","v":""},{"$f":"IF(OR(B35=\"K\",B35=\"k\"),1,\"\")","v":""},null,null,null,null,null,null,null,null,null,null,null,null,null,null,null,null,null,null,null,null,null,null,null,null,null,null,null,null,null,null,null,null,null,null,null,null,null,null,null,null,null,null,null,null,null,null,null,null,null,null,null,null,null,null,null,null,null,null,false,false]
["So. 25.",{"$f":"Mitarbeiter!B36","v":"00:00:00"},{"$f":"Mitarbeiter!C36","v":"00:00:00"},{"$f":"Mitarbeiter!D36","v":"00:00:00"},{"$f":"Mitarbeiter!E36","v":"00:00:00"},{"$f":"IF(OR(B36=0,C36=0),0,IF(C36>B36,ROUND((C36-B36)*24-((E36-D36)*24),2),ROUND((C36-B36+1)*24-((E36-D36)*24),2)))","v":0},null,null,null,{"$f":"IF(B36=\"FT\",G36,0)","v":0},null,null,null,null,null,null,null,null,{"$f":"M43","v":0},null,252,"Arzt/Amt Std",null,null,null,null,null,null,null,null,null,null,null,null,null,null,null,null,null,null,{"$f":"IF(OR(B36=\"U\",B36=\"u\"),1,\"\")","v":""},{"$f":"IF(OR(B36=\"K\",B36=\"k\"),1,\"\")","v":""},null,null,null,null,null,null,null,null,null,null,null,null,null,null,null,null,null,null,null,null,null,null,null,null,null,null,null,null,null,null,null,null,null,null,null,null,null,null,null,null,null,null,null,null,null,null,null,null,null,null,null,null,null,null,null,null,null,null,false,false]
["Mo. 26.",{"$f":"Mitarbeiter!B37","v":"00:00:00"},{"$f":"Mitarbeiter!C37","v":"00:00:00"},{"$f":"Mitarbeiter!D37","v":"00:00:00"},{"$f":"Mitarbeiter!E37","v":"00:00:00"},{"$f":"IF(OR(B37=0,C37=0),0,IF(C37>B37,ROUND((C37-B37)*24-((E37-D37)*24),2),ROUND((C37-B37+1)*24-((E37-D37)*24),2)))","v":0},null,null,null,{"$f":"IF(B37=\"FT\",G37,0)","v":0},null,null,null,null,null,null,null,null,{"$f":"N43","v":0},null,253,"bezFZ Std",null,null,null,null,null,null,null,null,null,null,null,null,null,null,null,null,null,null,{"$f":"IF(OR(B37=\"U\",B37=\"u\"),1,\"\")","v":""},{"$f":"IF(OR(B37=\"K\",B37=\"k\"),1,\"\")","v":""},null,null,null,null,null,null,null,null,null,null,null,null,null,null,null,null,null,null,null,null,null,null,null,null,null,null,null,null,null,null,null,null,null,null,null,null,null,null,null,null,null,null,null,null,null,null,null,null,null,null,null,null,null,null,null,null,null,null,false,false]
["Di. 27.",{"$f":"Mitarbeiter!B38","v":"00:00:00"},{"$f":"Mitarbeiter!C38","v":"00:00:00"},{"$f":"Mitarbeiter!D38","v":"00:00:00"},{"$f":"Mitarbeiter!E38","v":"00:00:00"},{"$f":"IF(OR(B38=0,C38=0),0,IF(C38>B38,ROUND((C38-B38)*24-((E38-D38)*24),2),ROUND((C38-B38+1)*24-((E38-D38)*24),2)))","v":0},null,null,null,{"$f":"IF(B38=\"FT\",G38,0)","v":0},null,null,null,null,null,null,null,null,{"$f":"P43","v":0},null,475,"NE Std",null,null,null,null,null,null,null,null,null,null,null,null,null,null,null,null,null,null,{"$f":"IF(OR(B38=\"U\",B38=\"u\"),1,\"\")","v":""},{"$f":"IF(OR(B38=\"K\",B38=\"k\"),1,\"\")","v":""},null,null,null,null,null,null,null,null,null,null,null,null,null,null,null,null,null,null,null,null,null,null,null,null,null,null,null,null,null,null,null,null,null,null,null,null,null,null,null,null,null,null,null,null,null,null,null,null,null,null,null,null,null,null,null,null,null,null,false,false]
["Mi. 28.",{"$f":"Mitarbeiter!B39","v":"00:00:00"},{"$f":"Mitarbeiter!C39","v":"00:00:00"},{"$f":"Mitarbeiter!D39","v":"00:00:00"},{"$f":"Mitarbeiter!E39","v":"00:00:00"},{"$f":"IF(OR(B39=0,C39=0),0,IF(C39>B39,ROUND((C39-B39)*24-((E39-D39)*24),2),ROUND((C39-B39+1)*24-((E39-D39)*24),2)))","v":0},null,null,null,{"$f":"IF(B39=\"FT\",G39,0)","v":0},null,null,null,null,null,null,null,null,{"$f":"COUNT(AO12:AO42)","v":0},null,198,"Urlaubs Tage",null,null,null,null,null,null,null,null,null,null,null,null,null,null,null,null,null,null,{"$f":"IF(OR(B39=\"U\",B39=\"u\"),1,\"\")","v":""},{"$f":"IF(OR(B39=\"K\",B39=\"k\"),1,\"\")","v":""},null,null,null,null,null,null,null,null,null,null,null,null,null,null,null,null,null,null,null,null,null,null,null,null,null,null,null,null,null,null,null,null,null,null,null,null,null,null,null,null,null,null,null,null,null,null,null,null,null,null,null,null,null,null,null,null,null,null,false,false]
["Do. 29.",{"$f":"Mitarbeiter!B40","v":"00:00:00"},{"$f":"Mitarbeiter!C40","v":"00:00:00"},{"$f":"Mitarbeiter!D40","v":"00:00:00"},{"$f":"Mitarbeiter!E40","v":"00:00:00"},{"$f":"IF(OR(B40=0,C40=0),0,IF(C40>B40,ROUND((C40-B40)*24-((E40-D40)*24),2),ROUND((C40-B40+1)*24-((E40-D40)*24),2)))","v":0},null,null,null,{"$f":"IF(B40=\"FT\",G40,0)","v":0},null,null,null,null,null,null,null,null,{"$f":"K43","v":0},null,251,"UrlaubsStd",null,null,null,null,null,null,null,null,null,null,null,null,null,null,null,null,null,null,{"$f":"IF(OR(B40=\"U\",B40=\"u\"),1,\"\")","v":""},{"$f":"IF(OR(B40=\"K\",B40=\"k\"),1,\"\")","v":""},null,null,null,null,null,null,null,null,null,null,null,null,null,null,null,null,null,null,null,null,null,null,null,null,null,null,null,null,null,null,null,null,null,null,null,null,null,null,null,null,null,null,null,null,null,null,null,null,null,null,null,null,null,null,null,null,null,null,false,false]
["Fr. 30.",{"$f":"Mitarbeiter!B41","v":"00:00:00"},{"$f":"Mitarbeiter!C41","v":"00:00:00"},{"$f":"Mitarbeiter!D41","v":"00:00:00"},{"$f":"Mitarbeiter!E41","v":"00:00:00"},{"$f":"IF(OR(B41=0,C41=0),0,IF(C41>B41,ROUND((C41-B41)*24-((E41-D41)*24),2),ROUND((C41-B41+1)*24-((E41-D41)*24),2)))","v":0},null,null,null,{"$f":"IF(B41=\"FT\",G41,0)","v":0},null,null,null,null,null,null,null,null,{"$f":"COUNT(AP12:AP42)","v":0},null,421,"Kranken Tage",null,null,null,null,null,null,null,null,null,null,null,null,null,null,null,null,null,null,{"$f":"IF(OR(B41=\"U\",B41=\"u\"),1,\"\")","v":""},{"$f":"IF(OR(B41=\"K\",B41=\"k\"),1,\"\")","v":""},null,null,null,null,null,null,null,null,null,null,null,null,null,null,null,null,null,null,null,null,null,null,null,null,null,null,null,null,null,null,null,null,null,null,null,null,null,null,null,null,null,null,null,null,null,null,null,null,null,null,null,null,null,null,null,null,null,null,false,false]
["Sa. 31.",{"$f":"Mitarbeiter!B42","v":"00:00:00"},{"$f":"Mitarbeiter!C42","v":"00:00:00"},{"$f":"Mitarbeiter!D42","v":"00:00:00"},{"$f":"Mitarbeiter!E42","v":"00:00:00"},{"$f":"IF(OR(B42=0,C42=0),0,IF(C42>B42,ROUND((C42-B42)*24-((E42-D42)*24),2),ROUND((C42-B42+1)*24-((E42-D42)*24),2)))","v":0},null,null,null,{"$f":"IF(B42=\"FT\",G42,0)","v":0},null,null,null,null,null,null,null,null,{"$f":"L43","v":0},null,450,"KrankenStd",null,null,null,null,null,null,null,null,null,null,null,null,null,null,null,null,null,null,{"$f":"IF(OR(B42=\"U\",B42=\"u\"),1,\"\")","v":""},{"$f":"IF(OR(B42=\"K\",B42=\"k\"),1,\"\")","v":""},null,null,null,null,null,null,null,null,null,null,null,null,null,null,null,null,null,null,null,null,null,null,null,null,null,null,null,null,null,null,null,null,null,null,null,null,null,null,null,null,null,null,null,null,null,null,null,null,null,null,null,null,null,null,null,null,null,null,false,false]
["Gesamt:",null,null,null,null,{"$f":"SUM(F12:F42)","v":0},0,0,0,0,0,0,0,0,0,0,null,null,{"$f":"O43","v":0},null,485,"SchulungStd"]
["Korrekturzeile:",null,null,null,null,null,null,null,null,null,null,null,null,null,null,null,null,null,null,null,385,"km-Geld"]
[" Die Ausführung der oben angegebenen Tätigkeit und die",null,null,null,null,null,null,null,null,null,null,null,"Handzeichen SB",null,"Handzeichen SB"]
[" angegebene Stundenzahl bestätigen wir hiermit."]
[]
[]
[]
[]
[]
[" __________________________________________________ "]
[" Datum, Stempel und Unterschrift des Auftraggebers"]
[" Ich erkläre, daß ich dieses Formular wahrheitsgemäß ausgefüllt",null,null,null,null,null,null,null,null,null,null,null,null,null,null,null,null,null,null,null,120,"Honorar"]
[" und keinerleit Eintragungen nach Unterschrift des Auftraggebers",null,null,null,null,null,null,"Bemerkung",null,null,null,null,null,null,null,null,null,null,"Wochenstunden Lt. DV",null,38.5]
[" vorgenommen habe.",null,null,null,null,null,null,null,null,null,null,null,null,null,null,null,null,null,"Arbeits-Stunden/Tag",null,7.7]
[]
[null,null,null,null,null,null,null,null,null,null,null,null,null,null,null,null,null,null,"Plus/Minus Std. Monat",null,{"$f":"SUM(Q33-S33)","v":0}]
[null,null,null,null,null,null,null,null,null,null,null,null,null,null,null,null,null,null,"Plus/Minus Std. Vormonat",null,0]
[null,null,null,null,null,null,null,null,null,null,null,null,null,null,null,null,null,null,"ausbezahlt",null,0]
[null,null,null,null,null,null,null,null,null,null,null,null,null,null,null,null,null,null,"SALDO Gleitkonto",null,{"$f":"U58+U59-U60","v":0}]
[" __________________________________________________ "]
[" Datum, Unterschrift des Mitarbeiters"]

{"sheet":"Grün","index":2,"n_rows":62,"n_cols":15,"rows_kept":62,"cut":false,"hidden":false,"merged":[[8,12,8,13],[7,0,7,2],[8,14,10,14],[9,10,9,11],[9,12,9,13],[10,10,10,11],[10,12,10,13],[7,13,7,14],[8,8,10,8],[8,3,8,4],[6,13,6,14],[7,7,7,10],[6,6,6,10],[0,0,1,5],[0,7,1,10],[4,11,4,13],[5,7,5,10],[0,11,0,13],[0,14,3,14],[2,11,2,13],[0,6,1,6],[2,0,2,5],[2,6,2,10],[4,0,4,5],[4,6,4,10],[3,6,3,10],[54,0,54,5],[55,0,59,5],[8,7,10,7],[53,0,53,5],[43,0,43,2],[8,0,10,0],[8,1,8,2],[42,0,42,2],[44,6,48,7]]}
["Stundennachweis Nr.",null,null,null,null,null,"01/26",{"$f":"intern!P1","v":0},null,null,null,"Personalnummer",null,null,"DIS"]
[null,null,null,null,null,null,null,null,null,null,null,{"$f":"Mitarbeiter!R2","v":0}]
["Name des Mitarbeiters",null,null,null,null,null,"Auftraggeber",null,null,null,null,"Kostenstelle"]
[{"$f":"Mitarbeiter!A4","v":0},null,null,null,null,null,{"$f":"Mitarbeiter!I4","v":0},null,null,null,null,{"$f":"Mitarbeiter!R4","v":0}]
["Vorname",null,null,null,null,null,"Abteilung/Baustelle",null,null,null,null,"Kundennummer",null,null,"Einsatz Nr."]
[{"$f":"Mitarbeiter!A6","v":0},null,null,null,null,null,{"$f":"Mitarbeiter!I6","v":0},null,null,null,null,{"$f":"Mitarbeiter!R6","v":0},null,null,{"$f":"intern!U6","v":0}]
["Monat/Woche/Zeitraum (MM/JJ)",null,null,null,null,null,"Eingesetzt als",null,null,null,null,"Lohn","Gehalt","VS"]
["Jänner 2026",null,null,null,null,null,{"$f":"Mitarbeiter!I8","v":0},null,null,null,null,null,null,{"$f":"intern!U7","v":0}]
["Datum","Arbeitszeit",null,"Pause",null,"Gesamt-",null,0.5,1,"Amt",null,null,null,null,"LA"]
[null,"von","bis","von","bis","arbeits-","Normal-",null,null,"Arzt","Leistungen mit",null,"Leistungen ohne"]
[null,"(HH:MM)","(HH:MM)","(HH:MM)","(HH:MM)","stunden","stunden",null,null,"SW","Weiterberechnung",null,"Weiterberechnung"]
["Do. 1.",{"$f":"Mitarbeiter!B12","v":"FT"},{"$f":"Mitarbeiter!C12","v":"00:00:00"},{"$f":"Mitarbeiter!D12","v":"00:00:00"},{"$f":"Mitarbeiter!E12","v":"00:00:00"},{"$f":"IF(OR(B12=0,C12=0),0,IF(C12>B12,ROUND((C12-B12)*24-((E12-D12)*24),2),ROUND((C12-B12+1)*24-((E12-D12)*24),2)))","v":0},{"$f":"intern!G12","v":0},null,null,{"$f":"intern!M12","v":0},"Std.","EUR","Std.","EUR"]
["Fr. 2.",{"$f":"Mitarbeiter!B13","v":"00:00:00"},{"$f":"Mitarbeiter!C13","v":"00:00:00"},{"$f":"Mitarbeiter!D13","v":"00:00:00"},{"$f":"Mitarbeiter!E13","v":"00:00:00"},{"$f":"IF(OR(B13=0,C13=0),0,IF(C13>B13,ROUND((C13-B13)*24-((E13-D13)*24),2),ROUND((C13-B13+1)*24-((E13-D13)*24),2)))","v":0},{"$f":"intern!G13","v":0},null,null,{"$f":"intern!M13","v":0},{"$f":"intern!Q13","v":0},{"$f":"intern!R13","v":0},{"$f":"intern!S13","v":0},{"$f":"intern!T13","v":0},{"$f":"intern!U13","v":125}]
["Sa. 3.",{"$f":"Mitarbeiter!B14","v":"00:00:00"},{"$f":"Mitarbeiter!C14","v":"00:00:00"},{"$f":"Mitarbeiter!D14","v":"00:00:00"},{"$f":"Mitarbeiter!E14","v":"00:00:00"},{"$f":"IF(OR(B14=0,C14=0),0,IF(C14>B14,ROUND((C14-B14)*24-((E14-D14)*24),2),ROUND((C14-B14+1)*24-((E14-D14)*24),2)))","v":0},{"$f":"intern!G14","v":0},null,null,{"$f":"intern!M14","v":0},{"$f":"intern!Q14","v":0},{"$f":"intern!R14","v":0},{"$f":"intern!S14","v":0},{"$f":"intern!T14","v":0},{"$f":"intern!U14","v":200}]
["So. 4.",{"$f":"Mitarbeiter!B15","v":"00:00:00"},{"$f":"Mitarbeiter!C15","v":"00:00:00"},{"$f":"Mitarbeiter!D15","v":"00:00:00"},{"$f":"Mitarbeiter!E15","v":"00:00:00"},{"$f":"IF(OR(B15=0,C15=0),0,IF(C15>B15,ROUND((C15-B15)*24-((E15-D15)*24),2),ROUND((C15-B15+1)*24-((E15-D15)*24),2)))","v":0},{"$f":"intern!G15","v":0},null,null,{"$f":"intern!M15","v":0},{"$f":"intern!Q15","v":0},{"$f":"intern!R15","v":0},{"$f":"intern!S15","v":0},{"$f":"intern!T15","v":0},{"$f":"intern!U15","v":202}]
["Mo. 5.",{"$f":"Mitarbeiter!B16","v":"00:00:00"},{"$f":"Mitarbeiter!C16","v":"00:00:00"},{"$f":"Mitarbeiter!D16","v":"00:00:00"},{"$f":"Mitarbeiter!E16","v":"00:00:00"},{"$f":"IF(OR(B16=0,C16=0),0,IF(C16>B16,ROUND((C16-B16)*24-((E16-D16)*24),2),ROUND((C16-B16+1)*24-((E16-D16)*24),2)))","v":0},{"$f":"intern!G16","v":0},null,null,{"$f":"intern!M16","v":0},{"$f":"intern!Q16","v":0},{"$f":"intern!R16","v":0},{"$f":"intern!S16","v":0},{"$f":"intern!T16","v":0},{"$f":"intern!U16","v":203}]
["Di. 6.",{"$f":"Mitarbeiter!B17","v":"FT"},{"$f":"Mitarbeiter!C17","v":"00:00:00"},{"$f":"Mitarbeiter!D17","v":"00:00:00"},{"$f":"Mitarbeiter!E17","v":"00:00:00"},{"$f":"IF(OR(B17=0,C17=0),0,IF(C17>B17,ROUND((C17-B17)*24-((E17-D17)*24),2),ROUND((C17-B17+1)*24-((E17-D17)*24),2)))","v":0},{"$f":"intern!G17","v":0},null,null,{"$f":"intern!M17","v":0},{"$f":"intern!Q17","v":0},{"$f":"intern!R17","v":0},{"$f":"intern!S17","v":0},{"$f":"intern!T17","v":0},{"$f":"intern!U17","v":330}]
["Mi. 7.",{"$f":"Mitarbeiter!B18","v":"00:00:00"},{"$f":"Mitarbeiter!C18","v":"00:00:00"},{"$f":"Mitarbeiter!D18","v":"00:00:00"},{"$f":"Mitarbeiter!E18","v":"00:00:00"},{"$f":"IF(OR(B18=0,C18=0),0,IF(C18>B18,ROUND((C18-B18)*24-((E18-D18)*24),2),ROUND((C18-B18+1)*24-((E18-D18)*24),2)))","v":0},{"$f":"intern!G18","v":0},null,null,{"$f":"intern!M18","v":0},{"$f":"intern!Q18","v":0},{"$f":"intern!R18","v":0},{"$f":"intern!S18","v":0},{"$f":"intern!T18","v":0},{"$f":"intern!U18","v":340}]
["Do. 8.",{"$f":"Mitarbeiter!B19","v":"00:00:00"},{"$f":"Mitarbeiter!C19","v":"00:00:00"},{"$f":"Mitarbeiter!D19","v":"00:00:00"},{"$f":"Mitarbeiter!E19","v":"00:00:00"},{"$f":"IF(OR(B19=0,C19=0),0,IF(C19>B19,ROUND((C19-B19)*24-((E19-D19)*24),2),ROUND((C19-B19+1)*24-((E19-D19)*24),2)))","v":0},{"$f":"intern!G19","v":0},null,null,{"$f":"intern!M19","v":0},{"$f":"intern!Q19","v":0},{"$f":"intern!R19","v":0},{"$f":"intern!S19","v":0},{"$f":"intern!T19","v":0},{"$f":"intern!U19","v":341}]
["Fr. 9.",{"$f":"Mitarbeiter!B20","v":"00:00:00"},{"$f":"Mitarbeiter!C20","v":"00:00:00"},{"$f":"Mitarbeiter!D20","v":"00:00:00"},{"$f":"Mitarbeiter!E20","v":"00:00:00"},{"$f":"IF(OR(B20=0,C20=0),0,IF(C20>B20,ROUND((C20-B20)*24-((E20-D20)*24),2),ROUND((C20-B20+1)*24-((E20-D20)*24),2)))","v":0},{"$f":"intern!G20","v":0},null,null,{"$f":"intern!M20","v":0},{"$f":"intern!Q20","v":0},{"$f":"intern!R20","v":0},{"$f":"intern!S20","v":0},{"$f":"intern!T20","v":0},{"$f":"intern!U20","v":35}]
["Sa. 10.",{"$f":"Mitarbeiter!B21","v":"00:00:00"},{"$f":"Mitarbeiter!C21","v":"00:00:00"},{"$f":"Mitarbeiter!D21","v":"00:00:00"},{"$f":"Mitarbeiter!E21","v":"00:00:00"},{"$f":"IF(OR(B21=0,C21=0),0,IF(C21>B21,ROUND((C21-B21)*24-((E21-D21)*24),2),ROUND((C21-B21+1)*24-((E21-D21)*24),2)))","v":0},{"$f":"intern!G21","v":0},null,null,{"$f":"intern!M21","v":0},{"$f":"intern!Q21","v":0},{"$f":"intern!R21","v":0},{"$f":"intern!S21","v":0},{"$f":"intern!T21","v":0},{"$f":"intern!U21","v":470}]
["So. 11.",{"$f":"Mitarbeiter!B22","v":"00:00:00"},{"$f":"Mitarbeiter!C22","v":"00:00:00"},{"$f":"Mitarbeiter!D22","v":"00:00:00"},{"$f":"Mitarbeiter!E22","v":"00:00:00"},{"$f":"IF(OR(B22=0,C22=0),0,IF(C22>B22,ROUND((C22-B22)*24-((E22-D22)*24),2),ROUND((C22-B22+1)*24-((E22-D22)*24),2)))","v":0},{"$f":"intern!G22","v":0},null,null,{"$f":"intern!M22","v":0},{"$f":"intern!Q22","v":0},{"$f":"intern!R22","v":0},{"$f":"intern!S22","v":0},{"$f":"intern!T22","v":0},{"$f":"intern!U22","v":220}]
["Mo. 12.",{"$f":"Mitarbeiter!B23","v":"00:00:00"},{"$f":"Mitarbeiter!C23","v":"00:00:00"},{"$f":"Mitarbeiter!D23","v":"00:00:00"},{"$f":"Mitarbeiter!E23","v":"00:00:00"},{"$f":"IF(OR(B23=0,C23=0),0,IF(C23>B23,ROUND((C23-B23)*24-((E23-D23)*24),2),ROUND((C23-B23+1)*24-((E23-D23)*24),2)))","v":0},{"$f":"intern!G23","v":0},null,null,{"$f":"intern!M23","v":0},{"$f":"intern!Q23","v":0},{"$f":"intern!R23","v":0},{"$f":"intern!S23","v":0},{"$f":"intern!T23","v":0},{"$f":"intern!U23","v":221}]
["Di. 13.",{"$f":"Mitarbeiter!B24","v":"00:00:00"},{"$f":"Mitarbeiter!C24","v":"00:00:00"},{"$f":"Mitarbeiter!D24","v":"00:00:00"},{"$f":"Mitarbeiter!E24","v":"00:00:00"},{"$f":"IF(OR(B24=0,C24=0),0,IF(C24>B24,ROUND((C24-B24)*24-((E24-D24)*24),2),ROUND((C24-B24+1)*24-((E24-D24)*24),2)))","v":0},{"$f":"intern!G24","v":0},null,null,{"$f":"intern!M24","v":0},{"$f":"intern!Q24","v":0},{"$f":"intern!R24","v":0},{"$f":"intern!S24","v":0},{"$f":"intern!T24","v":0},{"$f":"intern!U24","v":0}]
["Mi. 14.",{"$f":"Mitarbeiter!B25","v":"00:00:00"},{"$f":"Mitarbeiter!C25","v":"00:00:00"},{"$f":"Mitarbeiter!D25","v":"00:00:00"},{"$f":"Mitarbeiter!E25","v":"00:00:00"},{"$f":"IF(OR(B25=0,C25=0),0,IF(C25>B25,ROUND((C25-B25)*24-((E25-D25)*24),2),ROUND((C25-B25+1)*24-((E25-D25)*24),2)))","v":0},{"$f":"intern!G25","v":0},null,null,{"$f":"intern!M25","v":0},{"$f":"intern!Q25","v":0},{"$f":"intern!R25","v":0},{"$f":"intern!S25","v":0},{"$f":"intern!T25","v":0},{"$f":"intern!U25","v":0}]
["Do. 15.",{"$f":"Mitarbeiter!B26","v":"00:00:00"},{"$f":"Mitarbeiter!C26","v":"00:00:00"},{"$f":"Mitarbeiter!D26","v":"00:00:00"},{"$f":"Mitarbeiter!E26","v":"00:00:00"},{"$f":"IF(OR(B26=0,C26=0),0,IF(C26>B26,ROUND((C26-B26)*24-((E26-D26)*24),2),ROUND((C26-B26+1)*24-((E26-D26)*24),2)))","v":0},{"$f":"intern!G26","v":0},null,null,{"$f":"intern!M26","v":0},{"$f":"intern!Q26","v":0},{"$f":"intern!R26","v":0},{"$f":"intern!S26","v":0},{"$f":"intern!T26","v":0},{"$f":"intern!U26","v":210}]
["Fr. 16.",{"$f":"Mitarbeiter!B27","v":"00:00:00"},{"$f":"Mitarbeiter!C27","v":"00:00:00"},{"$f":"Mitarbeiter!D27","v":"00:00:00"},{"$f":"Mitarbeiter!E27","v":"00:00:00"},{"$f":"IF(OR(B27=0,C27=0),0,IF(C27>B27,ROUND((C27-B27)*24-((E27-D27)*24),2),ROUND((C27-B27+1)*24-((E27-D27)*24),2)))","v":0},{"$f":"intern!G27","v":0},null,null,{"$f":"intern!M27","v":0},{"$f":"intern!Q27","v":0},{"$f":"intern!R27","v":0},{"$f":"intern!S27","v":0},{"$f":"intern!T27","v":0},{"$f":"intern!U27","v":211}]
["Sa. 17.",{"$f":"Mitarbeiter!B28","v":"00:00:00"},{"$f":"Mitarbeiter!C28","v":"00:00:00"},{"$f":"Mitarbeiter!D28","v":"00:00:00"},{"$f":"Mitarbeiter!E28","v":"00:00:00"},{"$f":"IF(OR(B28=0,C28=0),0,IF(C28>B28,ROUND((C28-B28)*24-((E28-D28)*24),2),ROUND((C28-B28+1)*24-((E28-D28)*24),2)))","v":0},{"$f":"intern!G28","v":0},null,null,{"$f":"intern!M28","v":0},{"$f":"intern!Q28","v":0},{"$f":"intern!R28","v":0},{"$f":"intern!S28","v":0},{"$f":"intern!T28","v":0},{"$f":"intern!U28","v":0}]
["So. 18.",{"$f":"Mitarbeiter!B29","v":"00:00:00"},{"$f":"Mitarbeiter!C29","v":"00:00:00"},{"$f":"Mitarbeiter!D29","v":"00:00:00"},{"$f":"Mitarbeiter!E29","v":"00:00:00"},{"$f":"IF(OR(B29=0,C29=0),0,IF(C29>B29,ROUND((C29-B29)*24-((E29-D29)*24),2),ROUND((C29-B29+1)*24-((E29-D29)*24),2)))","v":0},{"$f":"intern!G29","v":0},null,null,{"$f":"intern!M29","v":0},{"$f":"intern!Q29","v":0},{"$f":"intern!R29","v":0},{"$f":"intern!S29","v":0},{"$f":"intern!T29","v":0},{"$f":"intern!U29","v":502}]
["Mo. 19.",{"$f":"Mitarbeiter!B30","v":"00:00:00"},{"$f":"Mitarbeiter!C30","v":"00:00:00"},{"$f":"Mitarbeiter!D30","v":"00:00:00"},{"$f":"Mitarbeiter!E30","v":"00:00:00"},{"$f":"IF(OR(B30=0,C30=0),0,IF(C30>B30,ROUND((C30-B30)*24-((E30-D30)*24),2),ROUND((C30-B30+1)*24-((E30-D30)*24),2)))","v":0},{"$f":"intern!G30","v":0},null,null,{"$f":"intern!M30","v":0},{"$f":"intern!Q30","v":0},{"$f":"intern!R30","v":0},{"$f":"intern!S30","v":0},{"$f":"intern!T30","v":0},{"$f":"intern!U30","v":503}]
["Di. 20.",{"$f":"Mitarbeiter!B31","v":"00:00:00"},{"$f":"Mitarbeiter!C31","v":"00:00:00"},{"$f":"Mitarbeiter!D31","v":"00:00:00"},{"$f":"Mitarbeiter!E31","v":"00:00:00"},{"$f":"IF(OR(B31=0,C31=0),0,IF(C31>B31,ROUND((C31-B31)*24-((E31-D31)*24),2),ROUND((C31-B31+1)*24-((E31-D31)*24),2)))","v":0},{"$f":"intern!G31","v":0},null,null,{"$f":"intern!M31","v":0},{"$f":"intern!Q31","v":0},{"$f":"intern!R31","v":0},{"$f":"intern!S31","v":0},{"$f":"intern!T31","v":0},{"$f":"intern!U31","v":522}]
["Mi. 21.",{"$f":"Mitarbeiter!B32","v":"00:00:00"},{"$f":"Mitarbeiter!C32","v":"00:00:00"},{"$f":"Mitarbeiter!D32","v":"00:00:00"},{"$f":"Mitarbeiter!E32","v":"00:00:00"},{"$f":"IF(OR(B32=0,C32=0),0,IF(C32>B32,ROUND((C32-B32)*24-((E32-D32)*24),2),ROUND((C32-B32+1)*24-((E32-D32)*24),2)))","v":0},{"$f":"intern!G32","v":0},null,null,{"$f":"intern!M32","v":0},{"$f":"intern!Q32","v":0},{"$f":"intern!R32","v":0},{"$f":"intern!S32","v":0},{"$f":"intern!T32","v":0},{"$f":"intern!U32","v":523}]
["Do. 22.",{"$f":"Mitarbeiter!B33","v":"00:00:00"},{"$f":"Mitarbeiter!C33","v":"00:00:00"},{"$f":"Mitarbeiter!D33","v":"00:00:00"},{"$f":"Mitarbeiter!E33","v":"00:00:00"},{"$f":"IF(OR(B33=0,C33=0),0,IF(C33>B33,ROUND((C33-B33)*24-((E33-D33)*24),2),ROUND((C33-B33+1)*24-((E33-D33)*24),2)))","v":0},{"$f":"intern!G33","v":0},null,null,{"$f":"intern!M33","v":0},{"$f":"intern!Q33","v":0},{"$f":"intern!R33","v":0},{"$f":"intern!S33","v":0},{"$f":"intern!T33","v":0},{"$f":"intern!U33","v":115}]
["Fr. 23.",{"$f":"Mitarbeiter!B34","v":"00:00:00"},{"$f":"Mitarbeiter!C34","v":"00:00:00"},{"$f":"Mitarbeiter!D34","v":"00:00:00"},{"$f":"Mitarbeiter!E34","v":"00:00:00"},{"$f":"IF(OR(B34=0,C34=0),0,IF(C34>B34,ROUND((C34-B34)*24-((E34-D34)*24),2),ROUND((C34-B34+1)*24-((E34-D34)*24),2)))","v":0},{"$f":"intern!G34","v":0},null,null,{"$f":"intern!M34","v":0},{"$f":"intern!Q34","v":0},{"$f":"intern!R34","v":0},{"$f":"intern!S34","v":0},{"$f":"intern!T34","v":0},{"$f":"intern!U34","v":117}]
["Sa. 24.",{"$f":"Mitarbeiter!B35","v":"00:00:00"},{"$f":"Mitarbeiter!C35","v":"00:00:00"},{"$f":"Mitarbeiter!D35","v":"00:00:00"},{"$f":"Mitarbeiter!E35","v":"00:00:00"},{"$f":"IF(OR(B35=0,C35=0),0,IF(C35>B35,ROUND((C35-B35)*24-((E35-D35)*24),2),ROUND((C35-B35+1)*24-((E35-D35)*24),2)))","v":0},{"$f":"intern!G35","v":0},null,null,{"$f":"intern!M35","v":0},{"$f":"intern!Q35","v":0},{"$f":"intern!R35","v":0},{"$f":"intern!S35","v":0},{"$f":"intern!T35","v":0},{"$f":"intern!U35","v":250}]
["So. 25.",{"$f":"Mitarbeiter!B36","v":"00:00:00"},{"$f":"Mitarbeiter!C36","v":"00:00:00"},{"$f":"Mitarbeiter!D36","v":"00:00:00"},{"$f":"Mitarbeiter!E36","v":"00:00:00"},{"$f":"IF(OR(B36=0,C36=0),0,IF(C36>B36,ROUND((C36-B36)*24-((E36-D36)*24),2),ROUND((C36-B36+1)*24-((E36-D36)*24),2)))","v":0},{"$f":"intern!G36","v":0},null,null,{"$f":"intern!M36","v":0},{"$f":"intern!Q36","v":0},{"$f":"intern!R36","v":0},{"$f":"intern!S36","v":0},{"$f":"intern!T36","v":0},{"$f":"intern!U36","v":252}]
["Mo. 26.",{"$f":"Mitarbeiter!B37","v":"00:00:00"},{"$f":"Mitarbeiter!C37","v":"00:00:00"},{"$f":"Mitarbeiter!D37","v":"00:00:00"},{"$f":"Mitarbeiter!E37","v":"00:00:00"},{"$f":"IF(OR(B37=0,C37=0),0,IF(C37>B37,ROUND((C37-B37)*24-((E37-D37)*24),2),ROUND((C37-B37+1)*24-((E37-D37)*24),2)))","v":0},{"$f":"intern!G37","v":0},null,null,{"$f":"intern!M37","v":0},{"$f":"intern!Q37","v":0},{"$f":"intern!R37","v":0},{"$f":"intern!S37","v":0},{"$f":"intern!T37","v":0},{"$f":"intern!U37","v":253}]
["Di. 27.",{"$f":"Mitarbeiter!B38","v":"00:00:00"},{"$f":"Mitarbeiter!C38","v":"00:00:00"},{"$f":"Mitarbeiter!D38","v":"00:00:00"},{"$f":"Mitarbeiter!E38","v":"00:00:00"},{"$f":"IF(OR(B38=0,C38=0),0,IF(C38>B38,ROUND((C38-B38)*24-((E38-D38)*24),2),ROUND((C38-B38+1)*24-((E38-D38)*24),2)))","v":0},{"$f":"intern!G38","v":0},null,null,{"$f":"intern!M38","v":0},{"$f":"intern!Q38","v":0},{"$f":"intern!R38","v":0},{"$f":"intern!S38","v":0},{"$f":"intern!T38","v":0},{"$f":"intern!U38","v":475}]
["Mi. 28.",{"$f":"Mitarbeiter!B39","v":"00:00:00"},{"$f":"Mitarbeiter!C39","v":"00:00:00"},{"$f":"Mitarbeiter!D39","v":"00:00:00"},{"$f":"Mitarbeiter!E39","v":"00:00:00"},{"$f":"IF(OR(B39=0,C39=0),0,IF(C39>B39,ROUND((C39-B39)*24-((E39-D39)*24),2),ROUND((C39-B39+1)*24-((E39-D39)*24),2)))","v":0},{"$f":"intern!G39","v":0},null,null,{"$f":"intern!M39","v":0},{"$f":"intern!Q39","v":0},{"$f":"intern!R39","v":0},{"$f":"intern!S39","v":0},{"$f":"intern!T39","v":0},{"$f":"intern!U39","v":198}]
["Do. 29.",{"$f":"Mitarbeiter!B40","v":"00:00:00"},{"$f":"Mitarbeiter!C40","v":"00:00:00"},{"$f":"Mitarbeiter!D40","v":"00:00:00"},{"$f":"Mitarbeiter!E40","v":"00:00:00"},{"$f":"IF(OR(B40=0,C40=0),0,IF(C40>B40,ROUND((C40-B40)*24-((E40-D40)*24),2),ROUND((C40-B40+1)*24-((E40-D40)*24),2)))","v":0},{"$f":"intern!G40","v":0},null,null,{"$f":"intern!M40","v":0},{"$f":"intern!Q40","v":0},{"$f":"intern!R40","v":0},{"$f":"intern!S40","v":0},{"$f":"intern!T40","v":0},{"$f":"intern!U40","v":251}]
["Fr. 30.",{"$f":"Mitarbeiter!B41","v":"00:00:00"},{"$f":"Mitarbeiter!C41","v":"00:00:00"},{"$f":"Mitarbeiter!D41","v":"00:00:00"},{"$f":"Mitarbeiter!E41","v":"00:00:00"},{"$f":"IF(OR(B41=0,C41=0),0,IF(C41>B41,ROUND((C41-B41)*24-((E41-D41)*24),2),ROUND((C41-B41+1)*24-((E41-D41)*24),2)))","v":0},{"$f":"intern!G41","v":0},null,null,{"$f":"intern!M41","v":0},{"$f":"intern!Q41","v":0},{"$f":"intern!R41","v":0},{"$f":"intern!S41","v":0},{"$f":"intern!T41","v":0},{"$f":"intern!U41","v":421}]
["Sa. 31.",{"$f":"Mitarbeiter!B42","v":"00:00:00"},{"$f":"Mitarbeiter!C42","v":"00:00:00"},{"$f":"Mitarbeiter!D42","v":"00:00:00"},{"$f":"Mitarbeiter!E42","v":"00:00:00"},{"$f":"IF(OR(B42=0,C42=0),0,IF(C42>B42,ROUND((C42-B42)*24-((E42-D42)*24),2),ROUND((C42-B42+1)*24-((E42-D42)*24),2)))","v":0},{"$f":"intern!G42","v":0},null,null,{"$f":"intern!M42","v":0},{"$f":"intern!Q42","v":0},{"$f":"intern!R42","v":0},{"$f":"intern!S42","v":0},{"$f":"intern!T42","v":0},{"$f":"intern!U42","v":450}]
["Gesamt:",null,null,null,null,{"$f":"SUM(F12:F42)","v":0},{"$f":"SUM(G12:G42)","v":0},{"$f":"SUM(H12:H42)","v":0},{"$f":"SUM(I12:I42)","v":0},{"$f":"SUM(J12:J42)","v":0},{"$f":"intern!Q43","v":0},{"$f":"intern!R43","v":0},{"$f":"intern!S43","v":0},{"$f":"intern!T43","v":0},{"$f":"intern!U43","v":485}]
["Korrekturzeile:",null,null,null,null,null,null,null,null,null,{"$f":"intern!Q44","v":0},{"$f":"intern!R44","v":0},{"$f":"intern!S44","v":0},{"$f":"intern!T44","v":0},{"$f":"intern!U44","v":385}]
[" Die Ausführung der oben angegebenen Tätigkeit und die",null,null,null,null,null,"Handzeichen SB",null,"Handzeichen SB",null,{"$f":"intern!Q45","v":0},{"$f":"intern!R45","v":0},{"$f":"intern!S45","v":0},{"$f":"intern!T45","v":0},{"$f":"intern!U45","v":0}]
[" angegebene Stundenzahl bestätigen wir hiermit.",null,null,null,null,null,null,null,null,null,{"$f":"intern!Q46","v":0},{"$f":"intern!R46","v":0},{"$f":"intern!S46","v":0},{"$f":"intern!T46","v":0},{"$f":"intern!U46","v":0}]
[null,null,null,null,null,null,null,null,null,null,{"$f":"intern!Q47","v":0},{"$f":"intern!R47","v":0},{"$f":"intern!S47","v":0},{"$f":"intern!T47","v":0},{"$f":"intern!U47","v":0}]
[null,null,null,null,null,null,null,null,null,null,{"$f":"intern!Q48","v":0},{"$f":"intern!R48","v":0},{"$f":"intern!S48","v":0},{"$f":"intern!T48","v":0},{"$f":"intern!U48","v":0}]
[null,null,null,null,null,null,null,null,null,null,{"$f":"intern!Q49","v":0},{"$f":"intern!R49","v":0},{"$f":"intern!S49","v":0},{"$f":"intern!T49","v":0},{"$f":"intern!U49","v":0}]
[null,null,null,null,null,null,null,null,null,null,{"$f":"intern!Q50","v":0},{"$f":"intern!R50","v":0},{"$f":"intern!S50","v":0},{"$f":"intern!T50","v":0},{"$f":"intern!U50","v":0}]
[null,null,null,null,null,null,null,null,null,null,{"$f":"intern!Q51","v":0},{"$f":"intern!R51","v":0},{"$f":"intern!S51","v":0},{"$f":"intern!T51","v":0},{"$f":"intern!U51","v":0}]
[" ______________________________________________ ",null,null,null,null,null,null,null,null,null,{"$f":"intern!Q52","v":0},{"$f":"intern!R52","v":0},{"$f":"intern!S52","v":0},{"$f":"intern!T52","v":0},{"$f":"intern!U52","v":0}]
[" Datum, Stempel und Unterschrift des Auftraggebers",null,null,null,null,null,null,null,null,null,{"$f":"intern!Q53","v":0},{"$f":"intern!R53","v":0},{"$f":"intern!S53","v":0},{"$f":"intern!T53","v":0},{"$f":"intern!U53","v":0}]
[" Ich erkläre, daß ich dieses Formular wahrheitsgemäß ausgefüllt",null,null,null,null,null,null,null,null,null,{"$f":"intern!Q54","v":0},{"$f":"intern!R54","v":0},{"$f":"intern!S54","v":0},{"$f":"intern!T54","v":0},{"$f":"intern!U54","v":120}]
[" und keinerleit Eintragungen nach Unterschrift des Auftraggebers"]
[" vorgenommen habe."]
[]
[]
[]
[]
[" ______________________________________________ "]
[" Datum, Unterschrift des Mitarbeiters"]

{"sheet":"Blau","index":3,"n_rows":62,"n_cols":15,"rows_kept":62,"cut":false,"hidden":false,"merged":[[0,0,1,5],[0,6,1,6],[2,0,2,5],[8,0,10,0],[8,1,8,2],[6,6,6,10],[7,0,7,2],[4,0,4,5],[4,6,4,10],[3,6,3,10],[8,14,10,14],[8,8,10,8],[10,10,10,11],[10,12,10,13],[8,12,8,13],[9,12,9,13],[9,10,9,11],[55,0,59,5],[7,7,7,10],[54,0,54,5],[43,0,43,2],[8,7,10,7],[53,0,53,5],[44,6,48,7],[42,0,42,2],[8,3,8,4],[7,13,7,14],[0,14,3,14],[0,11,0,13],[5,7,5,10],[4,11,4,13],[2,11,2,13],[6,13,6,14],[0,7,1,10],[2,6,2,10]]}
["Stundennachweis Nr.",null,null,null,null,null,"01/26",{"$f":"intern!P1","v":0},null,null,null,"Personalnummer",null,null,"DIS"]
[null,null,null,null,null,null,null,null,null,null,null,{"$f":"Mitarbeiter!R2","v":0}]
["Name des Mitarbeiters",null,null,null,null,null,"Auftraggeber",null,null,null,null,"Kostenstelle"]
[{"$f":"Mitarbeiter!A4","v":0},null,null,null,null,null,{"$f":"Mitarbeiter!I4","v":0},null,null,null,null,{"$f":"Mitarbeiter!R4","v":0}]
["Vorname",null,null,null,null,null,"Abteilung/Baustelle",null,null,null,null,"Kundennummer",null,null,"Einsatz Nr."]
[{"$f":"Mitarbeiter!A6","v":0},null,null,null,null,null,{"$f":"Mitarbeiter!I6","v":0},null,null,null,null,{"$f":"Mitarbeiter!R6","v":0},null,null,{"$f":"intern!U6","v":0}]
["Monat/Woche/Zeitraum (MM/JJ)",null,null,null,null,null,"Eingesetzt als",null,null,null,null,"Lohn","Gehalt","VS"]
["Jänner 2026",null,null,null,null,null,{"$f":"Mitarbeiter!I8","v":0},null,null,null,null,null,null,{"$f":"intern!U7","v":0}]
["Datum","Arbeitszeit",null,"Pause",null,"Gesamt-",null,0.5,1,"Amt",null,null,null,null,"LA"]
[null,"von","bis","von","bis","arbeits-","Normal-",null,null,"Arzt","Leistungen mit",null,"Leistungen ohne"]
[null,"(HH:MM)","(HH:MM)","(HH:MM)","(HH:MM)","stunden","stunden",null,null,"SW","Weiterberechnung",null,"Weiterberechnung"]
["Do. 1.",{"$f":"Mitarbeiter!B12","v":"FT"},{"$f":"Mitarbeiter!C12","v":"00:00:00"},{"$f":"Mitarbeiter!D12","v":"00:00:00"},{"$f":"Mitarbeiter!E12","v":"00:00:00"},{"$f":"IF(OR(B12=0,C12=0),0,IF(C12>B12,ROUND((C12-B12)*24-((E12-D12)*24),2),ROUND((C12-B12+1)*24-((E12-D12)*24),2)))","v":0},null,null,null,{"$f":"intern!M12","v":0},"Std.","EUR","Std.","EUR"]
["Fr. 2.",{"$f":"Mitarbeiter!B13","v":"00:00:00"},{"$f":"Mitarbeiter!C13","v":"00:00:00"},{"$f":"Mitarbeiter!D13","v":"00:00:00"},{"$f":"Mitarbeiter!E13","v":"00:00:00"},{"$f":"IF(OR(B13=0,C13=0),0,IF(C13>B13,ROUND((C13-B13)*24-((E13-D13)*24),2),ROUND((C13-B13+1)*24-((E13-D13)*24),2)))","v":0},null,null,null,{"$f":"intern!M13","v":0},{"$f":"intern!Q13","v":0},{"$f":"intern!R13","v":0},null,null,{"$f":"intern!U13","v":125}]
["Sa. 3.",{"$f":"Mitarbeiter!B14","v":"00:00:00"},{"$f":"Mitarbeiter!C14","v":"00:00:00"},{"$f":"Mitarbeiter!D14","v":"00:00:00"},{"$f":"Mitarbeiter!E14","v":"00:00:00"},{"$f":"IF(OR(B14=0,C14=0),0,IF(C14>B14,ROUND((C14-B14)*24-((E14-D14)*24),2),ROUND((C14-B14+1)*24-((E14-D14)*24),2)))","v":0},null,null,null,{"$f":"intern!M14","v":0},{"$f":"intern!Q14","v":0},{"$f":"intern!R14","v":0},null,null,{"$f":"intern!U14","v":200}]
["So. 4.",{"$f":"Mitarbeiter!B15","v":"00:00:00"},{"$f":"Mitarbeiter!C15","v":"00:00:00"},{"$f":"Mitarbeiter!D15","v":"00:00:00"},{"$f":"Mitarbeiter!E15","v":"00:00:00"},{"$f":"IF(OR(B15=0,C15=0),0,IF(C15>B15,ROUND((C15-B15)*24-((E15-D15)*24),2),ROUND((C15-B15+1)*24-((E15-D15)*24),2)))","v":0},null,null,null,{"$f":"intern!M15","v":0},{"$f":"intern!Q15","v":0},{"$f":"intern!R15","v":0},null,null,{"$f":"intern!U15","v":202}]
["Mo. 5.",{"$f":"Mitarbeiter!B16","v":"00:00:00"},{"$f":"Mitarbeiter!C16","v":"00:00:00"},{"$f":"Mitarbeiter!D16","v":"00:00:00"},{"$f":"Mitarbeiter!E16","v":"00:00:00"},{"$f":"IF(OR(B16=0,C16=0),0,IF(C16>B16,ROUND((C16-B16)*24-((E16-D16)*24),2),ROUND((C16-B16+1)*24-((E16-D16)*24),2)))","v":0},null,null,null,{"$f":"intern!M16","v":0},{"$f":"intern!Q16","v":0},{"$f":"intern!R16","v":0},null,null,{"$f":"intern!U16","v":203}]
["Di. 6.",{"$f":"Mitarbeiter!B17","v":"FT"},{"$f":"Mitarbeiter!C17","v":"00:00:00"},{"$f":"Mitarbeiter!D17","v":"00:00:00"},{"$f":"Mitarbeiter!E17","v":"00:00:00"},{"$f":"IF(OR(B17=0,C17=0),0,IF(C17>B17,ROUND((C17-B17)*24-((E17-D17)*24),2),ROUND((C17-B17+1)*24-((E17-D17)*24),2)))","v":0},null,null,null,{"$f":"intern!M17","v":0},{"$f":"intern!Q17","v":0},{"$f":"intern!R17","v":0},null,null,{"$f":"intern!U17","v":330}]
["Mi. 7.",{"$f":"Mitarbeiter!B18","v":"00:00:00"},{"$f":"Mitarbeiter!C18","v":"00:00:00"},{"$f":"Mitarbeiter!D18","v":"00:00:00"},{"$f":"Mitarbeiter!E18","v":"00:00:00"},{"$f":"IF(OR(B18=0,C18=0),0,IF(C18>B18,ROUND((C18-B18)*24-((E18-D18)*24),2),ROUND((C18-B18+1)*24-((E18-D18)*24),2)))","v":0},null,null,null,{"$f":"intern!M18","v":0},{"$f":"intern!Q18","v":0},{"$f":"intern!R18","v":0},null,null,{"$f":"intern!U18","v":340}]
["Do. 8.",{"$f":"Mitarbeiter!B19","v":"00:00:00"},{"$f":"Mitarbeiter!C19","v":"00:00:00"},{"$f":"Mitarbeiter!D19","v":"00:00:00"},{"$f":"Mitarbeiter!E19","v":"00:00:00"},{"$f":"IF(OR(B19=0,C19=0),0,IF(C19>B19,ROUND((C19-B19)*24-((E19-D19)*24),2),ROUND((C19-B19+1)*24-((E19-D19)*24),2)))","v":0},null,null,null,{"$f":"intern!M19","v":0},{"$f":"intern!Q19","v":0},{"$f":"intern!R19","v":0},null,null,{"$f":"intern!U19","v":341}]
["Fr. 9.",{"$f":"Mitarbeiter!B20","v":"00:00:00"},{"$f":"Mitarbeiter!C20","v":"00:00:00"},{"$f":"Mitarbeiter!D20","v":"00:00:00"},{"$f":"Mitarbeiter!E20","v":"00:00:00"},{"$f":"IF(OR(B20=0,C20=0),0,IF(C20>B20,ROUND((C20-B20)*24-((E20-D20)*24),2),ROUND((C20-B20+1)*24-((E20-D20)*24),2)))","v":0},null,null,null,{"$f":"intern!M20","v":0},{"$f":"intern!Q20","v":0},{"$f":"intern!R20","v":0},null,null,{"$f":"intern!U20","v":35}]
["Sa. 10.",{"$f":"Mitarbeiter!B21","v":"00:00:00"},{"$f":"Mitarbeiter!C21","v":"00:00:00"},{"$f":"Mitarbeiter!D21","v":"00:00:00"},{"$f":"Mitarbeiter!E21","v":"00:00:00"},{"$f":"IF(OR(B21=0,C21=0),0,IF(C21>B21,ROUND((C21-B21)*24-((E21-D21)*24),2),ROUND((C21-B21+1)*24-((E21-D21)*24),2)))","v":0},null,null,null,{"$f":"intern!M21","v":0},{"$f":"intern!Q21","v":0},{"$f":"intern!R21","v":0},null,null,{"$f":"intern!U21","v":470}]
["So. 11.",{"$f":"Mitarbeiter!B22","v":"00:00:00"},{"$f":"Mitarbeiter!C22","v":"00:00:00"},{"$f":"Mitarbeiter!D22","v":"00:00:00"},{"$f":"Mitarbeiter!E22","v":"00:00:00"},{"$f":"IF(OR(B22=0,C22=0),0,IF(C22>B22,ROUND((C22-B22)*24-((E22-D22)*24),2),ROUND((C22-B22+1)*24-((E22-D22)*24),2)))","v":0},null,null,null,{"$f":"intern!M22","v":0},{"$f":"intern!Q22","v":0},{"$f":"intern!R22","v":0},null,null,{"$f":"intern!U22","v":220}]
["Mo. 12.",{"$f":"Mitarbeiter!B23","v":"00:00:00"},{"$f":"Mitarbeiter!C23","v":"00:00:00"},{"$f":"Mitarbeiter!D23","v":"00:00:00"},{"$f":"Mitarbeiter!E23","v":"00:00:00"},{"$f":"IF(OR(B23=0,C23=0),0,IF(C23>B23,ROUND((C23-B23)*24-((E23-D23)*24),2),ROUND((C23-B23+1)*24-((E23-D23)*24),2)))","v":0},null,null,null,{"$f":"intern!M23","v":0},{"$f":"intern!Q23","v":0},{"$f":"intern!R23","v":0},null,null,{"$f":"intern!U23","v":221}]
["Di. 13.",{"$f":"Mitarbeiter!B24","v":"00:00:00"},{"$f":"Mitarbeiter!C24","v":"00:00:00"},{"$f":"Mitarbeiter!D24","v":"00:00:00"},{"$f":"Mitarbeiter!E24","v":"00:00:00"},{"$f":"IF(OR(B24=0,C24=0),0,IF(C24>B24,ROUND((C24-B24)*24-((E24-D24)*24),2),ROUND((C24-B24+1)*24-((E24-D24)*24),2)))","v":0},null,null,null,{"$f":"intern!M24","v":0},{"$f":"intern!Q24","v":0},{"$f":"intern!R24","v":0},null,null,{"$f":"intern!U24","v":0}]
["Mi. 14.",{"$f":"Mitarbeiter!B25","v":"00:00:00"},{"$f":"Mitarbeiter!C25","v":"00:00:00"},{"$f":"Mitarbeiter!D25","v":"00:00:00"},{"$f":"Mitarbeiter!E25","v":"00:00:00"},{"$f":"IF(OR(B25=0,C25=0),0,IF(C25>B25,ROUND((C25-B25)*24-((E25-D25)*24),2),ROUND((C25-B25+1)*24-((E25-D25)*24),2)))","v":0},null,null,null,{"$f":"intern!M25","v":0},{"$f":"intern!Q25","v":0},{"$f":"intern!R25","v":0},null,null,{"$f":"intern!U25","v":0}]
["Do. 15.",{"$f":"Mitarbeiter!B26","v":"00:00:00"},{"$f":"Mitarbeiter!C26","v":"00:00:00"},{"$f":"Mitarbeiter!D26","v":"00:00:00"},{"$f":"Mitarbeiter!E26","v":"00:00:00"},{"$f":"IF(OR(B26=0,C26=0),0,IF(C26>B26,ROUND((C26-B26)*24-((E26-D26)*24),2),ROUND((C26-B26+1)*24-((E26-D26)*24),2)))","v":0},null,null,null,{"$f":"intern!M26","v":0},{"$f":"intern!Q26","v":0},{"$f":"intern!R26","v":0},null,null,{"$f":"intern!U26","v":210}]
["Fr. 16.",{"$f":"Mitarbeiter!B27","v":"00:00:00"},{"$f":"Mitarbeiter!C27","v":"00:00:00"},{"$f":"Mitarbeiter!D27","v":"00:00:00"},{"$f":"Mitarbeiter!E27","v":"00:00:00"},{"$f":"IF(OR(B27=0,C27=0),0,IF(C27>B27,ROUND((C27-B27)*24-((E27-D27)*24),2),ROUND((C27-B27+1)*24-((E27-D27)*24),2)))","v":0},null,null,null,{"$f":"intern!M27","v":0},{"$f":"intern!Q27","v":0},{"$f":"intern!R27","v":0},null,null,{"$f":"intern!U27","v":211}]
["Sa. 17.",{"$f":"Mitarbeiter!B28","v":"00:00:00"},{"$f":"Mitarbeiter!C28","v":"00:00:00"},{"$f":"Mitarbeiter!D28","v":"00:00:00"},{"$f":"Mitarbeiter!E28","v":"00:00:00"},{"$f":"IF(OR(B28=0,C28=0),0,IF(C28>B28,ROUND((C28-B28)*24-((E28-D28)*24),2),ROUND((C28-B28+1)*24-((E28-D28)*24),2)))","v":0},null,null,null,{"$f":"intern!M28","v":0},{"$f":"intern!Q28","v":0},{"$f":"intern!R28","v":0},null,null,{"$f":"intern!U28","v":0}]
["So. 18.",{"$f":"Mitarbeiter!B29","v":"00:00:00"},{"$f":"Mitarbeiter!C29","v":"00:00:00"},{"$f":"Mitarbeiter!D29","v":"00:00:00"},{"$f":"Mitarbeiter!E29","v":"00:00:00"},{"$f":"IF(OR(B29=0,C29=0),0,IF(C29>B29,ROUND((C29-B29)*24-((E29-D29)*24),2),ROUND((C29-B29+1)*24-((E29-D29)*24),2)))","v":0},null,null,null,{"$f":"intern!M29","v":0},{"$f":"intern!Q29","v":0},{"$f":"intern!R29","v":0},null,null,{"$f":"intern!U29","v":502}]
["Mo. 19.",{"$f":"Mitarbeiter!B30","v":"00:00:00"},{"$f":"Mitarbeiter!C30","v":"00:00:00"},{"$f":"Mitarbeiter!D30","v":"00:00:00"},{"$f":"Mitarbeiter!E30","v":"00:00:00"},{"$f":"IF(OR(B30=0,C30=0),0,IF(C30>B30,ROUND((C30-B30)*24-((E30-D30)*24),2),ROUND((C30-B30+1)*24-((E30-D30)*24),2)))","v":0},null,null,null,{"$f":"intern!M30","v":0},{"$f":"intern!Q30","v":0},{"$f":"intern!R30","v":0},null,null,{"$f":"intern!U30","v":503}]
["Di. 20.",{"$f":"Mitarbeiter!B31","v":"00:00:00"},{"$f":"Mitarbeiter!C31","v":"00:00:00"},{"$f":"Mitarbeiter!D31","v":"00:00:00"},{"$f":"Mitarbeiter!E31","v":"00:00:00"},{"$f":"IF(OR(B31=0,C31=0),0,IF(C31>B31,ROUND((C31-B31)*24-((E31-D31)*24),2),ROUND((C31-B31+1)*24-((E31-D31)*24),2)))","v":0},null,null,null,{"$f":"intern!M31","v":0},{"$f":"intern!Q31","v":0},{"$f":"intern!R31","v":0},null,null,{"$f":"intern!U31","v":522}]
["Mi. 21.",{"$f":"Mitarbeiter!B32","v":"00:00:00"},{"$f":"Mitarbeiter!C32","v":"00:00:00"},{"$f":"Mitarbeiter!D32","v":"00:00:00"},{"$f":"Mitarbeiter!E32","v":"00:00:00"},{"$f":"IF(OR(B32=0,C32=0),0,IF(C32>B32,ROUND((C32-B32)*24-((E32-D32)*24),2),ROUND((C32-B32+1)*24-((E32-D32)*24),2)))","v":0},null,null,null,{"$f":"intern!M32","v":0},{"$f":"intern!Q32","v":0},{"$f":"intern!R32","v":0},null,null,{"$f":"intern!U32","v":523}]
["Do. 22.",{"$f":"Mitarbeiter!B33","v":"00:00:00"},{"$f":"Mitarbeiter!C33","v":"00:00:00"},{"$f":"Mitarbeiter!D33","v":"00:00:00"},{"$f":"Mitarbeiter!E33","v":"00:00:00"},{"$f":"IF(OR(B33=0,C33=0),0,IF(C33>B33,ROUND((C33-B33)*24-((E33-D33)*24),2),ROUND((C33-B33+1)*24-((E33-D33)*24),2)))","v":0},null,null,null,{"$f":"intern!M33","v":0},{"$f":"intern!Q33","v":0},{"$f":"intern!R33","v":0},null,null,{"$f":"intern!U33","v":115}]
["Fr. 23.",{"$f":"Mitarbeiter!B34","v":"00:00:00"},{"$f":"Mitarbeiter!C34","v":"00:00:00"},{"$f":"Mitarbeiter!D34","v":"00:00:00"},{"$f":"Mitarbeiter!E34","v":"00:00:00"},{"$f":"IF(OR(B34=0,C34=0),0,IF(C34>B34,ROUND((C34-B34)*24-((E34-D34)*24),2),ROUND((C34-B34+1)*24-((E34-D34)*24),2)))","v":0},null,null,null,{"$f":"intern!M34","v":0},{"$f":"intern!Q34","v":0},{"$f":"intern!R34","v":0},null,null,{"$f":"intern!U34","v":117}]
["Sa. 24.",{"$f":"Mitarbeiter!B35","v":"00:00:00"},{"$f":"Mitarbeiter!C35","v":"00:00:00"},{"$f":"Mitarbeiter!D35","v":"00:00:00"},{"$f":"Mitarbeiter!E35","v":"00:00:00"},{"$f":"IF(OR(B35=0,C35=0),0,IF(C35>B35,ROUND((C35-B35)*24-((E35-D35)*24),2),ROUND((C35-B35+1)*24-((E35-D35)*24),2)))","v":0},null,null,null,{"$f":"intern!M35","v":0},{"$f":"intern!Q35","v":0},{"$f":"intern!R35","v":0},null,null,{"$f":"intern!U35","v":250}]
["So. 25.",{"$f":"Mitarbeiter!B36","v":"00:00:00"},{"$f":"Mitarbeiter!C36","v":"00:00:00"},{"$f":"Mitarbeiter!D36","v":"00:00:00"},{"$f":"Mitarbeiter!E36","v":"00:00:00"},{"$f":"IF(OR(B36=0,C36=0),0,IF(C36>B36,ROUND((C36-B36)*24-((E36-D36)*24),2),ROUND((C36-B36+1)*24-((E36-D36)*24),2)))","v":0},null,null,null,{"$f":"intern!M36","v":0},{"$f":"intern!Q36","v":0},{"$f":"intern!R36","v":0},null,null,{"$f":"intern!U36","v":252}]
["Mo. 26.",{"$f":"Mitarbeiter!B37","v":"00:00:00"},{"$f":"Mitarbeiter!C37","v":"00:00:00"},{"$f":"Mitarbeiter!D37","v":"00:00:00"},{"$f":"Mitarbeiter!E37","v":"00:00:00"},{"$f":"IF(OR(B37=0,C37=0),0,IF(C37>B37,ROUND((C37-B37)*24-((E37-D37)*24),2),ROUND((C37-B37+1)*24-((E37-D37)*24),2)))","v":0},null,null,null,{"$f":"intern!M37","v":0},{"$f":"intern!Q37","v":0},{"$f":"intern!R37","v":0},null,null,{"$f":"intern!U37","v":253}]
["Di. 27.",{"$f":"Mitarbeiter!B38","v":"00:00:00"},{"$f":"Mitarbeiter!C38","v":"00:00:00"},{"$f":"Mitarbeiter!D38","v":"00:00:00"},{"$f":"Mitarbeiter!E38","v":"00:00:00"},{"$f":"IF(OR(B38=0,C38=0),0,IF(C38>B38,ROUND((C38-B38)*24-((E38-D38)*24),2),ROUND((C38-B38+1)*24-((E38-D38)*24),2)))","v":0},null,null,null,{"$f":"intern!M38","v":0},{"$f":"intern!Q38","v":0},{"$f":"intern!R38","v":0},null,null,{"$f":"intern!U38","v":475}]
["Mi. 28.",{"$f":"Mitarbeiter!B39","v":"00:00:00"},{"$f":"Mitarbeiter!C39","v":"00:00:00"},{"$f":"Mitarbeiter!D39","v":"00:00:00"},{"$f":"Mitarbeiter!E39","v":"00:00:00"},{"$f":"IF(OR(B39=0,C39=0),0,IF(C39>B39,ROUND((C39-B39)*24-((E39-D39)*24),2),ROUND((C39-B39+1)*24-((E39-D39)*24),2)))","v":0},null,null,null,{"$f":"intern!M39","v":0},{"$f":"intern!Q39","v":0},{"$f":"intern!R39","v":0},null,null,{"$f":"intern!U39","v":198}]
["Do. 29.",{"$f":"Mitarbeiter!B40","v":"00:00:00"},{"$f":"Mitarbeiter!C40","v":"00:00:00"},{"$f":"Mitarbeiter!D40","v":"00:00:00"},{"$f":"Mitarbeiter!E40","v":"00:00:00"},{"$f":"IF(OR(B40=0,C40=0),0,IF(C40>B40,ROUND((C40-B40)*24-((E40-D40)*24),2),ROUND((C40-B40+1)*24-((E40-D40)*24),2)))","v":0},null,null,null,{"$f":"intern!M40","v":0},{"$f":"intern!Q40","v":0},{"$f":"intern!R40","v":0},null,null,{"$f":"intern!U40","v":251}]
["Fr. 30.",{"$f":"Mitarbeiter!B41","v":"00:00:00"},{"$f":"Mitarbeiter!C41","v":"00:00:00"},{"$f":"Mitarbeiter!D41","v":"00:00:00"},{"$f":"Mitarbeiter!E41","v":"00:00:00"},{"$f":"IF(OR(B41=0,C41=0),0,IF(C41>B41,ROUND((C41-B41)*24-((E41-D41)*24),2),ROUND((C41-B41+1)*24-((E41-D41)*24),2)))","v":0},null,null,null,{"$f":"intern!M41","v":0},{"$f":"intern!Q41","v":0},{"$f":"intern!R41","v":0},null,null,{"$f":"intern!U41","v":421}]
["Sa. 31.",{"$f":"Mitarbeiter!B42","v":"00:00:00"},{"$f":"Mitarbeiter!C42","v":"00:00:00"},{"$f":"Mitarbeiter!D42","v":"00:00:00"},{"$f":"Mitarbeiter!E42","v":"00:00:00"},{"$f":"IF(OR(B42=0,C42=0),0,IF(C42>B42,ROUND((C42-B42)*24-((E42-D42)*24),2),ROUND((C42-B42+1)*24-((E42-D42)*24),2)))","v":0},null,null,null,{"$f":"intern!M42","v":0},{"$f":"intern!Q42","v":0},{"$f":"intern!R42","v":0},null,null,{"$f":"intern!U42","v":450}]
["Gesamt:",null,null,null,null,{"$f":"SUM(F12:F42)","v":0},{"$f":"SUM(G12:G42)","v":0},{"$f":"SUM(H12:H42)","v":0},{"$f":"SUM(I12:I42)","v":0},{"$f":"SUM(J12:J42)","v":0},{"$f":"intern!Q43","v":0},{"$f":"intern!R43","v":0},null,null,{"$f":"intern!U43","v":485}]
["Korrekturzeile:",null,null,null,null,null,null,null,null,null,{"$f":"intern!Q44","v":0},{"$f":"intern!R44","v":0},null,null,{"$f":"intern!U44","v":385}]
[" Die Ausführung der oben angegebenen Tätigkeit und die",null,null,null,null,null,"Handzeichen SB",null,"Handzeichen SB",null,{"$f":"intern!Q45","v":0},{"$f":"intern!R45","v":0},null,null,{"$f":"intern!U45","v":0}]
[" angegebene Stundenzahl bestätigen wir hiermit.",null,null,null,null,null,null,null,null,null,{"$f":"intern!Q46","v":0},{"$f":"intern!R46","v":0},null,null,{"$f":"intern!U46","v":0}]
[null,null,null,null,null,null,null,null,null,null,{"$f":"intern!Q47","v":0},{"$f":"intern!R47","v":0},null,null,{"$f":"intern!U47","v":0}]
[null,null,null,null,null,null,null,null,null,null,{"$f":"intern!Q48","v":0},{"$f":"intern!R48","v":0},null,null,{"$f":"intern!U48","v":0}]
[null,null,null,null,null,null,null,null,null,null,{"$f":"intern!Q49","v":0},{"$f":"intern!R49","v":0},null,null,{"$f":"intern!U49","v":0}]
[null,null,null,null,null,null,null,null,null,null,{"$f":"intern!Q50","v":0},{"$f":"intern!R50","v":0},null,null,{"$f":"intern!U50","v":0}]
[null,null,null,null,null,null,null,null,null,null,{"$f":"intern!Q51","v":0},{"$f":"intern!R51","v":0},null,null,{"$f":"intern!U51","v":0}]
[" ______________________________________________ ",null,null,null,null,null,null,null,null,null,{"$f":"intern!Q52","v":0},{"$f":"intern!R52","v":0},null,null,{"$f":"intern!U52","v":0}]
[" Datum, Stempel und Unterschrift des Auftraggebers",null,null,null,null,null,null,null,null,null,{"$f":"intern!Q53","v":0},{"$f":"intern!R53","v":0},null,null,{"$f":"intern!U53","v":0}]
[" Ich erkläre, daß ich dieses Formular wahrheitsgemäß ausgefüllt",null,null,null,null,null,null,null,null,null,{"$f":"intern!Q54","v":0},{"$f":"intern!R54","v":0},null,null,{"$f":"intern!U54","v":120}]
[" und keinerleit Eintragungen nach Unterschrift des Auftraggebers"]
[" vorgenommen habe."]
[]
[]
[]
[]
[" ______________________________________________ "]
[" Datum, Unterschrift des Mitarbeiters"]